BEGIN:VCALENDAR
VERSION:2.0
PRODID:-//Institut du Christ Roi Souverain Prêtre - Église Saint-Patrice - Rouen - ECPv4.9.12//NONSGML v1.0//EN
CALSCALE:GREGORIAN
METHOD:PUBLISH
X-WR-CALNAME:Institut du Christ Roi Souverain Prêtre - Église Saint-Patrice - Rouen
X-ORIGINAL-URL:https://icrsp-rouen.com
X-WR-CALDESC:Évènements pour Institut du Christ Roi Souverain Prêtre - Église Saint-Patrice - Rouen
BEGIN:VTIMEZONE
TZID:Europe/Paris
BEGIN:DAYLIGHT
TZOFFSETFROM:+0100
TZOFFSETTO:+0200
TZNAME:CEST
DTSTART:20230326T010000
END:DAYLIGHT
BEGIN:STANDARD
TZOFFSETFROM:+0200
TZOFFSETTO:+0100
TZNAME:CET
DTSTART:20231029T010000
END:STANDARD
END:VTIMEZONE
BEGIN:VEVENT
DTSTART;VALUE=DATE:20230722
DTEND;VALUE=DATE:20230723
DTSTAMP:20260426T041055
CREATED:20230716T165816Z
LAST-MODIFIED:20230716T165816Z
UID:14071-1689984000-1690070399@icrsp-rouen.com
SUMMARY:Ste Marie-Madeleine\, Pénitente
DESCRIPTION:
URL:https://icrsp-rouen.com/event/ste-marie-madeleine-penitente/
CATEGORIES:Messe
END:VEVENT
BEGIN:VEVENT
DTSTART;VALUE=DATE:20230722
DTEND;VALUE=DATE:20230723
DTSTAMP:20260426T041055
CREATED:20230716T165857Z
LAST-MODIFIED:20230716T165857Z
UID:14073-1689984000-1690070399@icrsp-rouen.com
SUMMARY:PAS DE MESSE
DESCRIPTION:
URL:https://icrsp-rouen.com/event/pas-de-messe-62/
CATEGORIES:Messe
END:VEVENT
END:VCALENDAR