BEGIN:VCALENDAR
VERSION:2.0
PRODID:-//Institut du Christ Roi Souverain Prêtre - Église Saint-Patrice - Rouen - ECPv4.9.12//NONSGML v1.0//EN
CALSCALE:GREGORIAN
METHOD:PUBLISH
X-WR-CALNAME:Institut du Christ Roi Souverain Prêtre - Église Saint-Patrice - Rouen
X-ORIGINAL-URL:https://icrsp-rouen.com
X-WR-CALDESC:Évènements pour Institut du Christ Roi Souverain Prêtre - Église Saint-Patrice - Rouen
BEGIN:VTIMEZONE
TZID:Europe/Paris
BEGIN:DAYLIGHT
TZOFFSETFROM:+0100
TZOFFSETTO:+0200
TZNAME:CEST
DTSTART:20230326T010000
END:DAYLIGHT
BEGIN:STANDARD
TZOFFSETFROM:+0200
TZOFFSETTO:+0100
TZNAME:CET
DTSTART:20231029T010000
END:STANDARD
END:VTIMEZONE
BEGIN:VEVENT
DTSTART;VALUE=DATE:20230720
DTEND;VALUE=DATE:20230721
DTSTAMP:20260426T012911
CREATED:20230716T164829Z
LAST-MODIFIED:20230716T164829Z
UID:14063-1689811200-1689897599@icrsp-rouen.com
SUMMARY:S. Jérôme Emilien\, Confesseur
DESCRIPTION:
URL:https://icrsp-rouen.com/event/s-jerome-emilien-confesseur/
CATEGORIES:Messe
END:VEVENT
BEGIN:VEVENT
DTSTART;VALUE=DATE:20230720
DTEND;VALUE=DATE:20230721
DTSTAMP:20260426T012911
CREATED:20230716T165455Z
LAST-MODIFIED:20230716T165455Z
UID:14065-1689811200-1689897599@icrsp-rouen.com
SUMMARY:PAS DE MESSE
DESCRIPTION:
URL:https://icrsp-rouen.com/event/pas-de-messe-60/
CATEGORIES:Messe
END:VEVENT
END:VCALENDAR