BEGIN:VCALENDAR
VERSION:2.0
PRODID:-//Institut du Christ Roi Souverain Prêtre - Église Saint-Patrice - Rouen - ECPv4.9.12//NONSGML v1.0//EN
CALSCALE:GREGORIAN
METHOD:PUBLISH
X-WR-CALNAME:Institut du Christ Roi Souverain Prêtre - Église Saint-Patrice - Rouen
X-ORIGINAL-URL:https://icrsp-rouen.com
X-WR-CALDESC:Évènements pour Institut du Christ Roi Souverain Prêtre - Église Saint-Patrice - Rouen
BEGIN:VTIMEZONE
TZID:Europe/Paris
BEGIN:DAYLIGHT
TZOFFSETFROM:+0100
TZOFFSETTO:+0200
TZNAME:CEST
DTSTART:20230326T010000
END:DAYLIGHT
BEGIN:STANDARD
TZOFFSETFROM:+0200
TZOFFSETTO:+0100
TZNAME:CET
DTSTART:20231029T010000
END:STANDARD
END:VTIMEZONE
BEGIN:VEVENT
DTSTART;VALUE=DATE:20230718
DTEND;VALUE=DATE:20230719
DTSTAMP:20260425T223052
CREATED:20230716T163808Z
LAST-MODIFIED:20230716T163808Z
UID:14053-1689638400-1689724799@icrsp-rouen.com
SUMMARY:S. Camille de Lellie\, Confesseur
DESCRIPTION:
URL:https://icrsp-rouen.com/event/s-camille-de-lellie-confesseur/
CATEGORIES:Messe
END:VEVENT
BEGIN:VEVENT
DTSTART;TZID=Europe/Paris:20230718T183000
DTEND;TZID=Europe/Paris:20230718T183000
DTSTAMP:20260425T223052
CREATED:20230716T172831Z
LAST-MODIFIED:20230716T172831Z
UID:14120-1689705000-1689705000@icrsp-rouen.com
SUMMARY:Messe
DESCRIPTION:
URL:https://icrsp-rouen.com/event/messe-1087/
CATEGORIES:Messe
END:VEVENT
END:VCALENDAR