BEGIN:VCALENDAR
VERSION:2.0
PRODID:-//Institut du Christ Roi Souverain Prêtre - Église Saint-Patrice - Rouen - ECPv4.9.12//NONSGML v1.0//EN
CALSCALE:GREGORIAN
METHOD:PUBLISH
X-WR-CALNAME:Institut du Christ Roi Souverain Prêtre - Église Saint-Patrice - Rouen
X-ORIGINAL-URL:https://icrsp-rouen.com
X-WR-CALDESC:Évènements pour Institut du Christ Roi Souverain Prêtre - Église Saint-Patrice - Rouen
BEGIN:VTIMEZONE
TZID:Europe/Paris
BEGIN:DAYLIGHT
TZOFFSETFROM:+0100
TZOFFSETTO:+0200
TZNAME:CEST
DTSTART:20230326T010000
END:DAYLIGHT
BEGIN:STANDARD
TZOFFSETFROM:+0200
TZOFFSETTO:+0100
TZNAME:CET
DTSTART:20231029T010000
END:STANDARD
END:VTIMEZONE
BEGIN:VEVENT
DTSTART;VALUE=DATE:20230701
DTEND;VALUE=DATE:20230702
DTSTAMP:20260423T043423
CREATED:20230623T092003Z
LAST-MODIFIED:20230623T092003Z
UID:13939-1688169600-1688255999@icrsp-rouen.com
SUMMARY:Très Précieux Sang de N.S Jésus-Christ
DESCRIPTION:(1er du mois) \n
URL:https://icrsp-rouen.com/event/tres-precieux-sang-de-n-s-jesus-christ/
CATEGORIES:Messe
END:VEVENT
BEGIN:VEVENT
DTSTART;TZID=Europe/Paris:20230701T110000
DTEND;TZID=Europe/Paris:20230701T110000
DTSTAMP:20260423T043423
CREATED:20230623T092212Z
LAST-MODIFIED:20230623T092212Z
UID:13945-1688209200-1688209200@icrsp-rouen.com
SUMMARY:Messe
DESCRIPTION:
URL:https://icrsp-rouen.com/event/messe-1075/
CATEGORIES:Messe
END:VEVENT
END:VCALENDAR