BEGIN:VCALENDAR
VERSION:2.0
PRODID:-//Institut du Christ Roi Souverain Prêtre - Église Saint-Patrice - Rouen - ECPv4.9.12//NONSGML v1.0//EN
CALSCALE:GREGORIAN
METHOD:PUBLISH
X-WR-CALNAME:Institut du Christ Roi Souverain Prêtre - Église Saint-Patrice - Rouen
X-ORIGINAL-URL:https://icrsp-rouen.com
X-WR-CALDESC:Évènements pour Institut du Christ Roi Souverain Prêtre - Église Saint-Patrice - Rouen
BEGIN:VTIMEZONE
TZID:Europe/Paris
BEGIN:DAYLIGHT
TZOFFSETFROM:+0100
TZOFFSETTO:+0200
TZNAME:CEST
DTSTART:20230326T010000
END:DAYLIGHT
BEGIN:STANDARD
TZOFFSETFROM:+0200
TZOFFSETTO:+0100
TZNAME:CET
DTSTART:20231029T010000
END:STANDARD
END:VTIMEZONE
BEGIN:VEVENT
DTSTART;VALUE=DATE:20230630
DTEND;VALUE=DATE:20230701
DTSTAMP:20260423T025838
CREATED:20230623T091623Z
LAST-MODIFIED:20230623T091623Z
UID:13933-1688083200-1688169599@icrsp-rouen.com
SUMMARY:Commémoration de Saint Paul Apôtre
DESCRIPTION:
URL:https://icrsp-rouen.com/event/commemoration-de-saint-paul-apotre-2/
CATEGORIES:Messe
END:VEVENT
BEGIN:VEVENT
DTSTART;TZID=Europe/Paris:20230630T183000
DTEND;TZID=Europe/Paris:20230630T183000
DTSTAMP:20260423T025838
CREATED:20230623T091759Z
LAST-MODIFIED:20230623T091759Z
UID:13935-1688149800-1688149800@icrsp-rouen.com
SUMMARY:Messe
DESCRIPTION:
URL:https://icrsp-rouen.com/event/messe-1074/
CATEGORIES:Messe
END:VEVENT
END:VCALENDAR