BEGIN:VCALENDAR
VERSION:2.0
PRODID:-//Institut du Christ Roi Souverain Prêtre - Église Saint-Patrice - Rouen - ECPv4.9.12//NONSGML v1.0//EN
CALSCALE:GREGORIAN
METHOD:PUBLISH
X-WR-CALNAME:Institut du Christ Roi Souverain Prêtre - Église Saint-Patrice - Rouen
X-ORIGINAL-URL:https://icrsp-rouen.com
X-WR-CALDESC:Évènements pour Institut du Christ Roi Souverain Prêtre - Église Saint-Patrice - Rouen
BEGIN:VTIMEZONE
TZID:Europe/Paris
BEGIN:DAYLIGHT
TZOFFSETFROM:+0100
TZOFFSETTO:+0200
TZNAME:CEST
DTSTART:20230326T010000
END:DAYLIGHT
BEGIN:STANDARD
TZOFFSETFROM:+0200
TZOFFSETTO:+0100
TZNAME:CET
DTSTART:20231029T010000
END:STANDARD
END:VTIMEZONE
BEGIN:VEVENT
DTSTART;VALUE=DATE:20230628
DTEND;VALUE=DATE:20230629
DTSTAMP:20260423T000509
CREATED:20230623T091049Z
LAST-MODIFIED:20230623T091049Z
UID:13919-1687910400-1687996799@icrsp-rouen.com
SUMMARY:Vigile des SS. Pierre & Paul\, Apôtres
DESCRIPTION:
URL:https://icrsp-rouen.com/event/vigile-des-ss-pierre-paul-apotres/
CATEGORIES:Messe
END:VEVENT
BEGIN:VEVENT
DTSTART;TZID=Europe/Paris:20230628T070000
DTEND;TZID=Europe/Paris:20230628T070000
DTSTAMP:20260423T000509
CREATED:20230623T091140Z
LAST-MODIFIED:20230623T091140Z
UID:13921-1687935600-1687935600@icrsp-rouen.com
SUMMARY:Messe
DESCRIPTION:suivie du petit-déjeuner au presbytère \n
URL:https://icrsp-rouen.com/event/messe-1071/
CATEGORIES:Messe
END:VEVENT
BEGIN:VEVENT
DTSTART;TZID=Europe/Paris:20230628T183000
DTEND;TZID=Europe/Paris:20230628T183000
DTSTAMP:20260423T000509
CREATED:20230623T091222Z
LAST-MODIFIED:20230623T091222Z
UID:13923-1687977000-1687977000@icrsp-rouen.com
SUMMARY:Messe
DESCRIPTION:
URL:https://icrsp-rouen.com/event/messe-1072/
CATEGORIES:Messe
END:VEVENT
END:VCALENDAR