BEGIN:VCALENDAR
VERSION:2.0
PRODID:-//Institut du Christ Roi Souverain Prêtre - Église Saint-Patrice - Rouen - ECPv4.9.12//NONSGML v1.0//EN
CALSCALE:GREGORIAN
METHOD:PUBLISH
X-WR-CALNAME:Institut du Christ Roi Souverain Prêtre - Église Saint-Patrice - Rouen
X-ORIGINAL-URL:https://icrsp-rouen.com
X-WR-CALDESC:Évènements pour Institut du Christ Roi Souverain Prêtre - Église Saint-Patrice - Rouen
BEGIN:VTIMEZONE
TZID:Europe/Paris
BEGIN:DAYLIGHT
TZOFFSETFROM:+0100
TZOFFSETTO:+0200
TZNAME:CEST
DTSTART:20230326T010000
END:DAYLIGHT
BEGIN:STANDARD
TZOFFSETFROM:+0200
TZOFFSETTO:+0100
TZNAME:CET
DTSTART:20231029T010000
END:STANDARD
END:VTIMEZONE
BEGIN:VEVENT
DTSTART;VALUE=DATE:20230625
DTEND;VALUE=DATE:20230626
DTSTAMP:20260422T194855
CREATED:20230617T121031Z
LAST-MODIFIED:20230617T121031Z
UID:13890-1687651200-1687737599@icrsp-rouen.com
SUMMARY:IV Dimanche de la Pentecôte
DESCRIPTION:
URL:https://icrsp-rouen.com/event/iv-dimanche-de-la-pentecote/
CATEGORIES:Messe
END:VEVENT
BEGIN:VEVENT
DTSTART;VALUE=DATE:20230625
DTEND;VALUE=DATE:20230626
DTSTAMP:20260422T194855
CREATED:20230617T123508Z
LAST-MODIFIED:20230617T130353Z
UID:13898-1687651200-1687737599@icrsp-rouen.com
SUMMARY:Apéritif et barbecue
DESCRIPTION:à l’issue de la messe de 10h30 \n
URL:https://icrsp-rouen.com/event/aperitif-et-barbecue/
CATEGORIES:Activités,Messe
ATTACH;FMTTYPE=image/jpeg:https://icrsp-rouen.com/wp-content/uploads/2023/06/Dimanche-25-juin-2023_page-0001-scaled.jpg
END:VEVENT
BEGIN:VEVENT
DTSTART;TZID=Europe/Paris:20230625T103000
DTEND;TZID=Europe/Paris:20230625T103000
DTSTAMP:20260422T194855
CREATED:20230617T121404Z
LAST-MODIFIED:20230617T121404Z
UID:13896-1687689000-1687689000@icrsp-rouen.com
SUMMARY:Messe chantée
DESCRIPTION:suivie d’un apéritif-barbecue \n
URL:https://icrsp-rouen.com/event/messe-chantee-157/
CATEGORIES:Messe
END:VEVENT
END:VCALENDAR