BEGIN:VCALENDAR
VERSION:2.0
PRODID:-//Institut du Christ Roi Souverain Prêtre - Église Saint-Patrice - Rouen - ECPv4.9.12//NONSGML v1.0//EN
CALSCALE:GREGORIAN
METHOD:PUBLISH
X-WR-CALNAME:Institut du Christ Roi Souverain Prêtre - Église Saint-Patrice - Rouen
X-ORIGINAL-URL:https://icrsp-rouen.com
X-WR-CALDESC:Évènements pour Institut du Christ Roi Souverain Prêtre - Église Saint-Patrice - Rouen
BEGIN:VTIMEZONE
TZID:Europe/Paris
BEGIN:DAYLIGHT
TZOFFSETFROM:+0100
TZOFFSETTO:+0200
TZNAME:CEST
DTSTART:20230326T010000
END:DAYLIGHT
BEGIN:STANDARD
TZOFFSETFROM:+0200
TZOFFSETTO:+0100
TZNAME:CET
DTSTART:20231029T010000
END:STANDARD
END:VTIMEZONE
BEGIN:VEVENT
DTSTART;VALUE=DATE:20230621
DTEND;VALUE=DATE:20230622
DTSTAMP:20260422T140706
CREATED:20230617T115213Z
LAST-MODIFIED:20230617T115213Z
UID:13861-1687305600-1687391999@icrsp-rouen.com
SUMMARY:S. Louis de Gonzague\, Confesseur
DESCRIPTION:
URL:https://icrsp-rouen.com/event/s-louis-de-gonzague-confesseur/
CATEGORIES:Messe
END:VEVENT
BEGIN:VEVENT
DTSTART;TZID=Europe/Paris:20230621T070000
DTEND;TZID=Europe/Paris:20230621T070000
DTSTAMP:20260422T140706
CREATED:20230617T115343Z
LAST-MODIFIED:20230617T115343Z
UID:13863-1687330800-1687330800@icrsp-rouen.com
SUMMARY:Messe
DESCRIPTION:suivie du petit-déjeuner au presbytère \n
URL:https://icrsp-rouen.com/event/messe-1064/
CATEGORIES:Messe
END:VEVENT
BEGIN:VEVENT
DTSTART;TZID=Europe/Paris:20230621T183000
DTEND;TZID=Europe/Paris:20230621T183000
DTSTAMP:20260422T140706
CREATED:20230617T115558Z
LAST-MODIFIED:20230617T115558Z
UID:13867-1687372200-1687372200@icrsp-rouen.com
SUMMARY:Messe
DESCRIPTION:
URL:https://icrsp-rouen.com/event/messe-1065/
CATEGORIES:Messe
END:VEVENT
END:VCALENDAR