BEGIN:VCALENDAR
VERSION:2.0
PRODID:-//Institut du Christ Roi Souverain Prêtre - Église Saint-Patrice - Rouen - ECPv4.9.12//NONSGML v1.0//EN
CALSCALE:GREGORIAN
METHOD:PUBLISH
X-WR-CALNAME:Institut du Christ Roi Souverain Prêtre - Église Saint-Patrice - Rouen
X-ORIGINAL-URL:https://icrsp-rouen.com
X-WR-CALDESC:Évènements pour Institut du Christ Roi Souverain Prêtre - Église Saint-Patrice - Rouen
BEGIN:VTIMEZONE
TZID:Europe/Paris
BEGIN:DAYLIGHT
TZOFFSETFROM:+0100
TZOFFSETTO:+0200
TZNAME:CEST
DTSTART:20230326T010000
END:DAYLIGHT
BEGIN:STANDARD
TZOFFSETFROM:+0200
TZOFFSETTO:+0100
TZNAME:CET
DTSTART:20231029T010000
END:STANDARD
END:VTIMEZONE
BEGIN:VEVENT
DTSTART;VALUE=DATE:20230616
DTEND;VALUE=DATE:20230617
DTSTAMP:20260420T042656
CREATED:20230610T183318Z
LAST-MODIFIED:20230610T183318Z
UID:13830-1686873600-1686959999@icrsp-rouen.com
SUMMARY:Fête du Sacré-Cœur de Jésus
DESCRIPTION:
URL:https://icrsp-rouen.com/event/fete-du-sacre-coeur-de-jesus-3/
CATEGORIES:Messe
END:VEVENT
BEGIN:VEVENT
DTSTART;TZID=Europe/Paris:20230616T183000
DTEND;TZID=Europe/Paris:20230616T183000
DTSTAMP:20260420T042656
CREATED:20230610T183352Z
LAST-MODIFIED:20230610T183352Z
UID:13832-1686940200-1686940200@icrsp-rouen.com
SUMMARY:Messe chantée
DESCRIPTION:
URL:https://icrsp-rouen.com/event/messe-chantee-154/
CATEGORIES:Messe
END:VEVENT
BEGIN:VEVENT
DTSTART;TZID=Europe/Paris:20230616T192000
DTEND;TZID=Europe/Paris:20230616T200000
DTSTAMP:20260420T042656
CREATED:20230610T183654Z
LAST-MODIFIED:20230610T183654Z
UID:13834-1686943200-1686945600@icrsp-rouen.com
SUMMARY:Acte de réparation au Sacré-Cœur de Jésus
DESCRIPTION:précédé des litanies du Sacré-Cœur (Pie XI) devant le Très Saint-Sacrment. \nConfessions (chn de la Crochais) \n
URL:https://icrsp-rouen.com/event/acte-de-reparation-au-sacre-coeur-de-jesus-2/
CATEGORIES:Messe
END:VEVENT
END:VCALENDAR