BEGIN:VCALENDAR
VERSION:2.0
PRODID:-//Institut du Christ Roi Souverain Prêtre - Église Saint-Patrice - Rouen - ECPv4.9.12//NONSGML v1.0//EN
CALSCALE:GREGORIAN
METHOD:PUBLISH
X-WR-CALNAME:Institut du Christ Roi Souverain Prêtre - Église Saint-Patrice - Rouen
X-ORIGINAL-URL:https://icrsp-rouen.com
X-WR-CALDESC:Évènements pour Institut du Christ Roi Souverain Prêtre - Église Saint-Patrice - Rouen
BEGIN:VTIMEZONE
TZID:Europe/Paris
BEGIN:DAYLIGHT
TZOFFSETFROM:+0100
TZOFFSETTO:+0200
TZNAME:CEST
DTSTART:20230326T010000
END:DAYLIGHT
BEGIN:STANDARD
TZOFFSETFROM:+0200
TZOFFSETTO:+0100
TZNAME:CET
DTSTART:20231029T010000
END:STANDARD
END:VTIMEZONE
BEGIN:VEVENT
DTSTART;VALUE=DATE:20230613
DTEND;VALUE=DATE:20230614
DTSTAMP:20260419T233318
CREATED:20230610T182046Z
LAST-MODIFIED:20230610T182046Z
UID:13800-1686614400-1686700799@icrsp-rouen.com
SUMMARY:S. Antoine de Padoue\, Confesseur & Docteur de l'Église
DESCRIPTION:
URL:https://icrsp-rouen.com/event/s-antoine-de-padoue-confesseur-docteur-de-leglise/
CATEGORIES:Messe
END:VEVENT
BEGIN:VEVENT
DTSTART;TZID=Europe/Paris:20230613T091500
DTEND;TZID=Europe/Paris:20230613T091500
DTSTAMP:20260419T233318
CREATED:20230610T182129Z
LAST-MODIFIED:20230610T182129Z
UID:13802-1686647700-1686647700@icrsp-rouen.com
SUMMARY:Messe
DESCRIPTION:
URL:https://icrsp-rouen.com/event/messe-1055/
CATEGORIES:Messe
END:VEVENT
BEGIN:VEVENT
DTSTART;TZID=Europe/Paris:20230613T121500
DTEND;TZID=Europe/Paris:20230613T121500
DTSTAMP:20260419T233318
CREATED:20230610T182319Z
LAST-MODIFIED:20230610T182319Z
UID:13806-1686658500-1686658500@icrsp-rouen.com
SUMMARY:Messe
DESCRIPTION:
URL:https://icrsp-rouen.com/event/messe-1056/
CATEGORIES:Messe
END:VEVENT
BEGIN:VEVENT
DTSTART;TZID=Europe/Paris:20230613T190000
DTEND;TZID=Europe/Paris:20230613T190000
DTSTAMP:20260419T233318
CREATED:20230610T182444Z
LAST-MODIFIED:20230610T182444Z
UID:13808-1686682800-1686682800@icrsp-rouen.com
SUMMARY:Apéritif au presbytère
DESCRIPTION:pour le départ de l’abbé Bredmann \n
URL:https://icrsp-rouen.com/event/aperitif-au-presbytere/
CATEGORIES:Messe
END:VEVENT
END:VCALENDAR