BEGIN:VCALENDAR
VERSION:2.0
PRODID:-//Institut du Christ Roi Souverain Prêtre - Église Saint-Patrice - Rouen - ECPv4.9.12//NONSGML v1.0//EN
CALSCALE:GREGORIAN
METHOD:PUBLISH
X-WR-CALNAME:Institut du Christ Roi Souverain Prêtre - Église Saint-Patrice - Rouen
X-ORIGINAL-URL:https://icrsp-rouen.com
X-WR-CALDESC:Évènements pour Institut du Christ Roi Souverain Prêtre - Église Saint-Patrice - Rouen
BEGIN:VTIMEZONE
TZID:Europe/Paris
BEGIN:DAYLIGHT
TZOFFSETFROM:+0100
TZOFFSETTO:+0200
TZNAME:CEST
DTSTART:20230326T010000
END:DAYLIGHT
BEGIN:STANDARD
TZOFFSETFROM:+0200
TZOFFSETTO:+0100
TZNAME:CET
DTSTART:20231029T010000
END:STANDARD
END:VTIMEZONE
BEGIN:VEVENT
DTSTART;VALUE=DATE:20230606
DTEND;VALUE=DATE:20230607
DTSTAMP:20260422T101154
CREATED:20230602T191518Z
LAST-MODIFIED:20230602T191518Z
UID:13727-1686009600-1686095999@icrsp-rouen.com
SUMMARY:S. Norbert\, Évêque & Confesseur
DESCRIPTION:
URL:https://icrsp-rouen.com/event/s-norbert-eveque-confesseur/
CATEGORIES:Messe
END:VEVENT
BEGIN:VEVENT
DTSTART;TZID=Europe/Paris:20230606T091500
DTEND;TZID=Europe/Paris:20230606T091500
DTSTAMP:20260422T101154
CREATED:20230602T191601Z
LAST-MODIFIED:20230602T191601Z
UID:13729-1686042900-1686042900@icrsp-rouen.com
SUMMARY:Messe
DESCRIPTION:
URL:https://icrsp-rouen.com/event/messe-1047/
CATEGORIES:Messe
END:VEVENT
BEGIN:VEVENT
DTSTART;TZID=Europe/Paris:20230606T121500
DTEND;TZID=Europe/Paris:20230606T121500
DTSTAMP:20260422T101154
CREATED:20230602T191737Z
LAST-MODIFIED:20230602T191737Z
UID:13733-1686053700-1686053700@icrsp-rouen.com
SUMMARY:Messe
DESCRIPTION:
URL:https://icrsp-rouen.com/event/messe-1048/
CATEGORIES:Messe
END:VEVENT
END:VCALENDAR