BEGIN:VCALENDAR
VERSION:2.0
PRODID:-//Institut du Christ Roi Souverain Prêtre - Église Saint-Patrice - Rouen - ECPv4.9.12//NONSGML v1.0//EN
CALSCALE:GREGORIAN
METHOD:PUBLISH
X-WR-CALNAME:Institut du Christ Roi Souverain Prêtre - Église Saint-Patrice - Rouen
X-ORIGINAL-URL:https://icrsp-rouen.com
X-WR-CALDESC:Évènements pour Institut du Christ Roi Souverain Prêtre - Église Saint-Patrice - Rouen
BEGIN:VTIMEZONE
TZID:Europe/Paris
BEGIN:DAYLIGHT
TZOFFSETFROM:+0100
TZOFFSETTO:+0200
TZNAME:CEST
DTSTART:20230326T010000
END:DAYLIGHT
BEGIN:STANDARD
TZOFFSETFROM:+0200
TZOFFSETTO:+0100
TZNAME:CET
DTSTART:20231029T010000
END:STANDARD
END:VTIMEZONE
BEGIN:VEVENT
DTSTART;VALUE=DATE:20230605
DTEND;VALUE=DATE:20230606
DTSTAMP:20260422T113635
CREATED:20230602T191349Z
LAST-MODIFIED:20230602T191349Z
UID:13723-1685923200-1686009599@icrsp-rouen.com
SUMMARY:S. Boniface\, Évêque & Martyr
DESCRIPTION:
URL:https://icrsp-rouen.com/event/s-boniface-eveque-martyr/
CATEGORIES:Messe
END:VEVENT
BEGIN:VEVENT
DTSTART;TZID=Europe/Paris:20230605T183000
DTEND;TZID=Europe/Paris:20230605T183000
DTSTAMP:20260422T113635
CREATED:20230602T191426Z
LAST-MODIFIED:20230602T191426Z
UID:13725-1685989800-1685989800@icrsp-rouen.com
SUMMARY:Messe
DESCRIPTION:
URL:https://icrsp-rouen.com/event/messe-1046/
CATEGORIES:Messe
END:VEVENT
END:VCALENDAR