BEGIN:VCALENDAR
VERSION:2.0
PRODID:-//Institut du Christ Roi Souverain Prêtre - Église Saint-Patrice - Rouen - ECPv4.9.12//NONSGML v1.0//EN
CALSCALE:GREGORIAN
METHOD:PUBLISH
X-WR-CALNAME:Institut du Christ Roi Souverain Prêtre - Église Saint-Patrice - Rouen
X-ORIGINAL-URL:https://icrsp-rouen.com
X-WR-CALDESC:Évènements pour Institut du Christ Roi Souverain Prêtre - Église Saint-Patrice - Rouen
BEGIN:VTIMEZONE
TZID:Europe/Paris
BEGIN:DAYLIGHT
TZOFFSETFROM:+0100
TZOFFSETTO:+0200
TZNAME:CEST
DTSTART:20230326T010000
END:DAYLIGHT
BEGIN:STANDARD
TZOFFSETFROM:+0200
TZOFFSETTO:+0100
TZNAME:CET
DTSTART:20231029T010000
END:STANDARD
END:VTIMEZONE
BEGIN:VEVENT
DTSTART;VALUE=DATE:20230531
DTEND;VALUE=DATE:20230601
DTSTAMP:20260422T185124
CREATED:20230526T193306Z
LAST-MODIFIED:20230526T193306Z
UID:13661-1685491200-1685577599@icrsp-rouen.com
SUMMARY:Quatre-Temps de Pentecôte
DESCRIPTION:
URL:https://icrsp-rouen.com/event/quatre-temps-de-pentecote-7/
CATEGORIES:Messe
END:VEVENT
BEGIN:VEVENT
DTSTART;TZID=Europe/Paris:20230531T070000
DTEND;TZID=Europe/Paris:20230531T070000
DTSTAMP:20260422T185124
CREATED:20230526T193410Z
LAST-MODIFIED:20230526T193410Z
UID:13663-1685516400-1685516400@icrsp-rouen.com
SUMMARY:Messe
DESCRIPTION:suivie du petit-déjeuner au presbytère \n
URL:https://icrsp-rouen.com/event/messe-1041/
CATEGORIES:Messe
END:VEVENT
BEGIN:VEVENT
DTSTART;TZID=Europe/Paris:20230531T121500
DTEND;TZID=Europe/Paris:20230531T121500
DTSTAMP:20260422T185124
CREATED:20230526T193450Z
LAST-MODIFIED:20230526T193450Z
UID:13665-1685535300-1685535300@icrsp-rouen.com
SUMMARY:Messe
DESCRIPTION:
URL:https://icrsp-rouen.com/event/messe-1042/
CATEGORIES:Messe
END:VEVENT
END:VCALENDAR