BEGIN:VCALENDAR
VERSION:2.0
PRODID:-//Institut du Christ Roi Souverain Prêtre - Église Saint-Patrice - Rouen - ECPv4.9.12//NONSGML v1.0//EN
CALSCALE:GREGORIAN
METHOD:PUBLISH
X-WR-CALNAME:Institut du Christ Roi Souverain Prêtre - Église Saint-Patrice - Rouen
X-ORIGINAL-URL:https://icrsp-rouen.com
X-WR-CALDESC:Évènements pour Institut du Christ Roi Souverain Prêtre - Église Saint-Patrice - Rouen
BEGIN:VTIMEZONE
TZID:Europe/Paris
BEGIN:DAYLIGHT
TZOFFSETFROM:+0100
TZOFFSETTO:+0200
TZNAME:CEST
DTSTART:20230326T010000
END:DAYLIGHT
BEGIN:STANDARD
TZOFFSETFROM:+0200
TZOFFSETTO:+0100
TZNAME:CET
DTSTART:20231029T010000
END:STANDARD
END:VTIMEZONE
BEGIN:VEVENT
DTSTART;VALUE=DATE:20230528
DTEND;VALUE=DATE:20230529
DTSTAMP:20260422T225842
CREATED:20230519T202720Z
LAST-MODIFIED:20230519T202720Z
UID:13632-1685232000-1685318399@icrsp-rouen.com
SUMMARY:Dimanche de la Pentecôte
DESCRIPTION:
URL:https://icrsp-rouen.com/event/dimanche-de-la-pentecote-3/
CATEGORIES:Messe
END:VEVENT
BEGIN:VEVENT
DTSTART;TZID=Europe/Paris:20230528T103000
DTEND;TZID=Europe/Paris:20230528T103000
DTSTAMP:20260422T225842
CREATED:20230519T202920Z
LAST-MODIFIED:20230519T202920Z
UID:13638-1685269800-1685269800@icrsp-rouen.com
SUMMARY:Messe chantée
DESCRIPTION:
URL:https://icrsp-rouen.com/event/messe-chantee-152/
CATEGORIES:Messe
END:VEVENT
END:VCALENDAR