BEGIN:VCALENDAR
VERSION:2.0
PRODID:-//Institut du Christ Roi Souverain Prêtre - Église Saint-Patrice - Rouen - ECPv4.9.12//NONSGML v1.0//EN
CALSCALE:GREGORIAN
METHOD:PUBLISH
X-WR-CALNAME:Institut du Christ Roi Souverain Prêtre - Église Saint-Patrice - Rouen
X-ORIGINAL-URL:https://icrsp-rouen.com
X-WR-CALDESC:Évènements pour Institut du Christ Roi Souverain Prêtre - Église Saint-Patrice - Rouen
BEGIN:VTIMEZONE
TZID:Europe/Paris
BEGIN:DAYLIGHT
TZOFFSETFROM:+0100
TZOFFSETTO:+0200
TZNAME:CEST
DTSTART:20230326T010000
END:DAYLIGHT
BEGIN:STANDARD
TZOFFSETFROM:+0200
TZOFFSETTO:+0100
TZNAME:CET
DTSTART:20231029T010000
END:STANDARD
END:VTIMEZONE
BEGIN:VEVENT
DTSTART;VALUE=DATE:20230519
DTEND;VALUE=DATE:20230520
DTSTAMP:20260422T143130
CREATED:20230512T112839Z
LAST-MODIFIED:20230512T112839Z
UID:13527-1684454400-1684540799@icrsp-rouen.com
SUMMARY:S. Pierre Célestin\, Pape & Confesseur
DESCRIPTION:
URL:https://icrsp-rouen.com/event/s-pierre-celestin-pape-confesseur/
CATEGORIES:Messe
END:VEVENT
BEGIN:VEVENT
DTSTART;TZID=Europe/Paris:20230519T183000
DTEND;TZID=Europe/Paris:20230519T183000
DTSTAMP:20260422T143130
CREATED:20230512T112923Z
LAST-MODIFIED:20230512T112923Z
UID:13529-1684521000-1684521000@icrsp-rouen.com
SUMMARY:Messe votive
DESCRIPTION:
URL:https://icrsp-rouen.com/event/messe-votive-4/
CATEGORIES:Messe
END:VEVENT
END:VCALENDAR