BEGIN:VCALENDAR
VERSION:2.0
PRODID:-//Institut du Christ Roi Souverain Prêtre - Église Saint-Patrice - Rouen - ECPv4.9.12//NONSGML v1.0//EN
CALSCALE:GREGORIAN
METHOD:PUBLISH
X-WR-CALNAME:Institut du Christ Roi Souverain Prêtre - Église Saint-Patrice - Rouen
X-ORIGINAL-URL:https://icrsp-rouen.com
X-WR-CALDESC:Évènements pour Institut du Christ Roi Souverain Prêtre - Église Saint-Patrice - Rouen
BEGIN:VTIMEZONE
TZID:Europe/Paris
BEGIN:DAYLIGHT
TZOFFSETFROM:+0100
TZOFFSETTO:+0200
TZNAME:CEST
DTSTART:20230326T010000
END:DAYLIGHT
BEGIN:STANDARD
TZOFFSETFROM:+0200
TZOFFSETTO:+0100
TZNAME:CET
DTSTART:20231029T010000
END:STANDARD
END:VTIMEZONE
BEGIN:VEVENT
DTSTART;VALUE=DATE:20230516
DTEND;VALUE=DATE:20230517
DTSTAMP:20260422T101511
CREATED:20230512T111116Z
LAST-MODIFIED:20230512T111116Z
UID:13491-1684195200-1684281599@icrsp-rouen.com
SUMMARY:S. Ubald\, Évêque & Confesseur
DESCRIPTION:
URL:https://icrsp-rouen.com/event/s-ubald-eveque-confesseur/
CATEGORIES:Messe
END:VEVENT
BEGIN:VEVENT
DTSTART;TZID=Europe/Paris:20230516T091500
DTEND;TZID=Europe/Paris:20230516T091500
DTSTAMP:20260422T101511
CREATED:20230512T111158Z
LAST-MODIFIED:20230512T111158Z
UID:13493-1684228500-1684228500@icrsp-rouen.com
SUMMARY:Messe
DESCRIPTION:
URL:https://icrsp-rouen.com/event/messe-1024/
CATEGORIES:Messe
END:VEVENT
BEGIN:VEVENT
DTSTART;TZID=Europe/Paris:20230516T121500
DTEND;TZID=Europe/Paris:20230516T121500
DTSTAMP:20260422T101511
CREATED:20230512T111333Z
LAST-MODIFIED:20230512T111333Z
UID:13497-1684239300-1684239300@icrsp-rouen.com
SUMMARY:Messe
DESCRIPTION:
URL:https://icrsp-rouen.com/event/messe-1025/
CATEGORIES:Messe
END:VEVENT
END:VCALENDAR