BEGIN:VCALENDAR
VERSION:2.0
PRODID:-//Institut du Christ Roi Souverain Prêtre - Église Saint-Patrice - Rouen - ECPv4.9.12//NONSGML v1.0//EN
CALSCALE:GREGORIAN
METHOD:PUBLISH
X-WR-CALNAME:Institut du Christ Roi Souverain Prêtre - Église Saint-Patrice - Rouen
X-ORIGINAL-URL:https://icrsp-rouen.com
X-WR-CALDESC:Évènements pour Institut du Christ Roi Souverain Prêtre - Église Saint-Patrice - Rouen
BEGIN:VTIMEZONE
TZID:Europe/Paris
BEGIN:DAYLIGHT
TZOFFSETFROM:+0100
TZOFFSETTO:+0200
TZNAME:CEST
DTSTART:20230326T010000
END:DAYLIGHT
BEGIN:STANDARD
TZOFFSETFROM:+0200
TZOFFSETTO:+0100
TZNAME:CET
DTSTART:20231029T010000
END:STANDARD
END:VTIMEZONE
BEGIN:VEVENT
DTSTART;VALUE=DATE:20230514
DTEND;VALUE=DATE:20230515
DTSTAMP:20260422T085305
CREATED:20230505T120851Z
LAST-MODIFIED:20230507T081049Z
UID:13467-1684022400-1684108799@icrsp-rouen.com
SUMMARY:Solennité de Sainte Jeanne d’Arc (Patronne Secondaire de la France)
DESCRIPTION:
URL:https://icrsp-rouen.com/event/cinquieme-dimanche-apres-paques/
CATEGORIES:Messe
END:VEVENT
BEGIN:VEVENT
DTSTART;TZID=Europe/Paris:20230514T073000
DTEND;TZID=Europe/Paris:20230514T073000
DTSTAMP:20260422T085305
CREATED:20230428T202156Z
LAST-MODIFIED:20230428T202156Z
UID:13395-1684049400-1684049400@icrsp-rouen.com
SUMMARY:Messe du pèlerinage
DESCRIPTION:
URL:https://icrsp-rouen.com/event/messe-du-pelerinage/
CATEGORIES:Messe
END:VEVENT
BEGIN:VEVENT
DTSTART;TZID=Europe/Paris:20230514T090000
DTEND;TZID=Europe/Paris:20230514T090000
DTSTAMP:20260422T085305
CREATED:20230428T202044Z
LAST-MODIFIED:20230507T081148Z
UID:13391-1684054800-1684054800@icrsp-rouen.com
SUMMARY:Messe
DESCRIPTION:(confessions possibles après la messe) \n
URL:https://icrsp-rouen.com/event/messe-1014/
CATEGORIES:Messe
END:VEVENT
END:VCALENDAR