BEGIN:VCALENDAR
VERSION:2.0
PRODID:-//Institut du Christ Roi Souverain Prêtre - Église Saint-Patrice - Rouen - ECPv4.9.12//NONSGML v1.0//EN
CALSCALE:GREGORIAN
METHOD:PUBLISH
X-WR-CALNAME:Institut du Christ Roi Souverain Prêtre - Église Saint-Patrice - Rouen
X-ORIGINAL-URL:https://icrsp-rouen.com
X-WR-CALDESC:Évènements pour Institut du Christ Roi Souverain Prêtre - Église Saint-Patrice - Rouen
BEGIN:VTIMEZONE
TZID:Europe/Paris
BEGIN:DAYLIGHT
TZOFFSETFROM:+0100
TZOFFSETTO:+0200
TZNAME:CEST
DTSTART:20230326T010000
END:DAYLIGHT
BEGIN:STANDARD
TZOFFSETFROM:+0200
TZOFFSETTO:+0100
TZNAME:CET
DTSTART:20231029T010000
END:STANDARD
END:VTIMEZONE
BEGIN:VEVENT
DTSTART;VALUE=DATE:20230512
DTEND;VALUE=DATE:20230513
DTSTAMP:20260420T053808
CREATED:20230505T115910Z
LAST-MODIFIED:20230505T115910Z
UID:13443-1683849600-1683935999@icrsp-rouen.com
SUMMARY:SS. Nérée\, Achillée\, Domitille (Vierge) & Pancrace\, Martyrs
DESCRIPTION:
URL:https://icrsp-rouen.com/event/ss-neree-achillee-domitille-vierge-pancrace-martyrs/
CATEGORIES:Messe
END:VEVENT
BEGIN:VEVENT
DTSTART;TZID=Europe/Paris:20230512T183000
DTEND;TZID=Europe/Paris:20230512T183000
DTSTAMP:20260420T053808
CREATED:20230505T115951Z
LAST-MODIFIED:20230505T115951Z
UID:13445-1683916200-1683916200@icrsp-rouen.com
SUMMARY:Messe votive du Sacré-Cœur de Jésus
DESCRIPTION:
URL:https://icrsp-rouen.com/event/messe-votive-du-sacre-coeur-de-jesus-6/
CATEGORIES:Messe
END:VEVENT
END:VCALENDAR