BEGIN:VCALENDAR
VERSION:2.0
PRODID:-//Institut du Christ Roi Souverain Prêtre - Église Saint-Patrice - Rouen - ECPv4.9.12//NONSGML v1.0//EN
CALSCALE:GREGORIAN
METHOD:PUBLISH
X-WR-CALNAME:Institut du Christ Roi Souverain Prêtre - Église Saint-Patrice - Rouen
X-ORIGINAL-URL:https://icrsp-rouen.com
X-WR-CALDESC:Évènements pour Institut du Christ Roi Souverain Prêtre - Église Saint-Patrice - Rouen
BEGIN:VTIMEZONE
TZID:Europe/Paris
BEGIN:DAYLIGHT
TZOFFSETFROM:+0100
TZOFFSETTO:+0200
TZNAME:CEST
DTSTART:20230326T010000
END:DAYLIGHT
BEGIN:STANDARD
TZOFFSETFROM:+0200
TZOFFSETTO:+0100
TZNAME:CET
DTSTART:20231029T010000
END:STANDARD
END:VTIMEZONE
BEGIN:VEVENT
DTSTART;VALUE=DATE:20230509
DTEND;VALUE=DATE:20230510
DTSTAMP:20260420T005517
CREATED:20230505T114555Z
LAST-MODIFIED:20230505T114555Z
UID:13406-1683590400-1683676799@icrsp-rouen.com
SUMMARY:S. Grégoire de Nazianze\, Évêque\, Confesseur & Docteur de l’Église
DESCRIPTION:
URL:https://icrsp-rouen.com/event/s-gregoire-de-nazianze-eveque-confesseur-docteur-de-leglise/
CATEGORIES:Messe
END:VEVENT
BEGIN:VEVENT
DTSTART;TZID=Europe/Paris:20230509T091500
DTEND;TZID=Europe/Paris:20230509T091500
DTSTAMP:20260420T005517
CREATED:20230505T114640Z
LAST-MODIFIED:20230505T114640Z
UID:13408-1683623700-1683623700@icrsp-rouen.com
SUMMARY:Messe
DESCRIPTION:
URL:https://icrsp-rouen.com/event/messe-1016/
CATEGORIES:Messe
END:VEVENT
BEGIN:VEVENT
DTSTART;TZID=Europe/Paris:20230509T110000
DTEND;TZID=Europe/Paris:20230509T114500
DTSTAMP:20260420T005517
CREATED:20230505T114738Z
LAST-MODIFIED:20230505T114738Z
UID:13410-1683630000-1683632700@icrsp-rouen.com
SUMMARY:Confessions
DESCRIPTION:Chn Boinet \n
URL:https://icrsp-rouen.com/event/confessions-568/
CATEGORIES:Messe
END:VEVENT
BEGIN:VEVENT
DTSTART;TZID=Europe/Paris:20230509T121500
DTEND;TZID=Europe/Paris:20230509T121500
DTSTAMP:20260420T005517
CREATED:20230505T114825Z
LAST-MODIFIED:20230505T114825Z
UID:13412-1683634500-1683634500@icrsp-rouen.com
SUMMARY:Messe
DESCRIPTION:
URL:https://icrsp-rouen.com/event/messe-1017/
CATEGORIES:Messe
END:VEVENT
END:VCALENDAR