BEGIN:VCALENDAR
VERSION:2.0
PRODID:-//Institut du Christ Roi Souverain Prêtre - Église Saint-Patrice - Rouen - ECPv4.9.12//NONSGML v1.0//EN
CALSCALE:GREGORIAN
METHOD:PUBLISH
X-WR-CALNAME:Institut du Christ Roi Souverain Prêtre - Église Saint-Patrice - Rouen
X-ORIGINAL-URL:https://icrsp-rouen.com
X-WR-CALDESC:Évènements pour Institut du Christ Roi Souverain Prêtre - Église Saint-Patrice - Rouen
BEGIN:VTIMEZONE
TZID:Europe/Paris
BEGIN:DAYLIGHT
TZOFFSETFROM:+0100
TZOFFSETTO:+0200
TZNAME:CEST
DTSTART:20230326T010000
END:DAYLIGHT
BEGIN:STANDARD
TZOFFSETFROM:+0200
TZOFFSETTO:+0100
TZNAME:CET
DTSTART:20231029T010000
END:STANDARD
END:VTIMEZONE
BEGIN:VEVENT
DTSTART;VALUE=DATE:20230501
DTEND;VALUE=DATE:20230502
DTSTAMP:20260422T115830
CREATED:20230423T160411Z
LAST-MODIFIED:20230428T202346Z
UID:13250-1682899200-1682985599@icrsp-rouen.com
SUMMARY:Saint Joseph\, artisan\, Époux de la T.S Vierge Marie
DESCRIPTION:18h: Messe chantée \n
URL:https://icrsp-rouen.com/event/fete-de-saint-joseph-artisan/
CATEGORIES:Activités,Messe
ATTACH;FMTTYPE=image/png:https://icrsp-rouen.com/wp-content/uploads/2023/04/photo-st-joseph-st-patrice-2-1.png
END:VEVENT
END:VCALENDAR