BEGIN:VCALENDAR
VERSION:2.0
PRODID:-//Institut du Christ Roi Souverain Prêtre - Église Saint-Patrice - Rouen - ECPv4.9.12//NONSGML v1.0//EN
CALSCALE:GREGORIAN
METHOD:PUBLISH
X-WR-CALNAME:Institut du Christ Roi Souverain Prêtre - Église Saint-Patrice - Rouen
X-ORIGINAL-URL:https://icrsp-rouen.com
X-WR-CALDESC:Évènements pour Institut du Christ Roi Souverain Prêtre - Église Saint-Patrice - Rouen
BEGIN:VTIMEZONE
TZID:Europe/Paris
BEGIN:DAYLIGHT
TZOFFSETFROM:+0100
TZOFFSETTO:+0200
TZNAME:CEST
DTSTART:20230326T010000
END:DAYLIGHT
BEGIN:STANDARD
TZOFFSETFROM:+0200
TZOFFSETTO:+0100
TZNAME:CET
DTSTART:20231029T010000
END:STANDARD
END:VTIMEZONE
BEGIN:VEVENT
DTSTART;VALUE=DATE:20230420
DTEND;VALUE=DATE:20230421
DTSTAMP:20260423T030325
CREATED:20230415T080443Z
LAST-MODIFIED:20230415T080443Z
UID:13119-1681948800-1682035199@icrsp-rouen.com
SUMMARY:Férie
DESCRIPTION:
URL:https://icrsp-rouen.com/event/ferie-229/
CATEGORIES:Messe
END:VEVENT
BEGIN:VEVENT
DTSTART;VALUE=DATE:20230420
DTEND;VALUE=DATE:20230421
DTSTAMP:20260423T030325
CREATED:20230415T080512Z
LAST-MODIFIED:20230415T080512Z
UID:13121-1681948800-1682035199@icrsp-rouen.com
SUMMARY:PAS DE MESSE
DESCRIPTION:
URL:https://icrsp-rouen.com/event/pas-de-messe-42/
CATEGORIES:Messe
END:VEVENT
END:VCALENDAR