BEGIN:VCALENDAR
VERSION:2.0
PRODID:-//Institut du Christ Roi Souverain Prêtre - Église Saint-Patrice - Rouen - ECPv4.9.12//NONSGML v1.0//EN
CALSCALE:GREGORIAN
METHOD:PUBLISH
X-WR-CALNAME:Institut du Christ Roi Souverain Prêtre - Église Saint-Patrice - Rouen
X-ORIGINAL-URL:https://icrsp-rouen.com
X-WR-CALDESC:Évènements pour Institut du Christ Roi Souverain Prêtre - Église Saint-Patrice - Rouen
BEGIN:VTIMEZONE
TZID:Europe/Paris
BEGIN:DAYLIGHT
TZOFFSETFROM:+0100
TZOFFSETTO:+0200
TZNAME:CEST
DTSTART:20230326T010000
END:DAYLIGHT
BEGIN:STANDARD
TZOFFSETFROM:+0200
TZOFFSETTO:+0100
TZNAME:CET
DTSTART:20231029T010000
END:STANDARD
END:VTIMEZONE
BEGIN:VEVENT
DTSTART;VALUE=DATE:20230410
DTEND;VALUE=DATE:20230411
DTSTAMP:20260425T170144
CREATED:20230408T170820Z
LAST-MODIFIED:20230408T170820Z
UID:13002-1681084800-1681171199@icrsp-rouen.com
SUMMARY:Lundi de Pâques
DESCRIPTION:
URL:https://icrsp-rouen.com/event/lundi-de-paques-2/
CATEGORIES:Messe
END:VEVENT
BEGIN:VEVENT
DTSTART;VALUE=DATE:20230410
DTEND;VALUE=DATE:20230411
DTSTAMP:20260425T170144
CREATED:20230408T170858Z
LAST-MODIFIED:20230408T170858Z
UID:13005-1681084800-1681171199@icrsp-rouen.com
SUMMARY:Lundi de Pâques
DESCRIPTION:
URL:https://icrsp-rouen.com/event/lundi-de-paques-3/
CATEGORIES:Messe
END:VEVENT
BEGIN:VEVENT
DTSTART;TZID=Europe/Paris:20230410T110000
DTEND;TZID=Europe/Paris:20230410T110000
DTSTAMP:20260425T170144
CREATED:20230408T170927Z
LAST-MODIFIED:20230408T170927Z
UID:13007-1681124400-1681124400@icrsp-rouen.com
SUMMARY:Messe
DESCRIPTION:
URL:https://icrsp-rouen.com/event/messe-993/
CATEGORIES:Messe
END:VEVENT
END:VCALENDAR