BEGIN:VCALENDAR
VERSION:2.0
PRODID:-//Institut du Christ Roi Souverain Prêtre - Église Saint-Patrice - Rouen - ECPv4.9.12//NONSGML v1.0//EN
CALSCALE:GREGORIAN
METHOD:PUBLISH
X-WR-CALNAME:Institut du Christ Roi Souverain Prêtre - Église Saint-Patrice - Rouen
X-ORIGINAL-URL:https://icrsp-rouen.com
X-WR-CALDESC:Évènements pour Institut du Christ Roi Souverain Prêtre - Église Saint-Patrice - Rouen
BEGIN:VTIMEZONE
TZID:Europe/Paris
BEGIN:DAYLIGHT
TZOFFSETFROM:+0100
TZOFFSETTO:+0200
TZNAME:CEST
DTSTART:20230326T010000
END:DAYLIGHT
BEGIN:STANDARD
TZOFFSETFROM:+0200
TZOFFSETTO:+0100
TZNAME:CET
DTSTART:20231029T010000
END:STANDARD
END:VTIMEZONE
BEGIN:VEVENT
DTSTART;VALUE=DATE:20230407
DTEND;VALUE=DATE:20230408
DTSTAMP:20260425T213532
CREATED:20230401T115506Z
LAST-MODIFIED:20230401T115506Z
UID:12964-1680825600-1680911999@icrsp-rouen.com
SUMMARY:Vendredi Saint. Passion de Notre Seigneur Jésus-Christ
DESCRIPTION:
URL:https://icrsp-rouen.com/event/vendredi-saint-passion-de-notre-seigneur-jesus-christ/
CATEGORIES:Messe
END:VEVENT
BEGIN:VEVENT
DTSTART;TZID=Europe/Paris:20230407T073000
DTEND;TZID=Europe/Paris:20230407T073000
DTSTAMP:20260425T213532
CREATED:20230401T115555Z
LAST-MODIFIED:20230401T115555Z
UID:12966-1680852600-1680852600@icrsp-rouen.com
SUMMARY:Offices des Ténèbres
DESCRIPTION:
URL:https://icrsp-rouen.com/event/offices-des-tenebres/
CATEGORIES:Messe
END:VEVENT
BEGIN:VEVENT
DTSTART;TZID=Europe/Paris:20230407T190000
DTEND;TZID=Europe/Paris:20230407T190000
DTSTAMP:20260425T213532
CREATED:20230401T120007Z
LAST-MODIFIED:20230401T120007Z
UID:12973-1680894000-1680894000@icrsp-rouen.com
SUMMARY:Office de la Croix
DESCRIPTION:
URL:https://icrsp-rouen.com/event/office-de-la-croix-3/
CATEGORIES:Messe
END:VEVENT
END:VCALENDAR