BEGIN:VCALENDAR
VERSION:2.0
PRODID:-//Institut du Christ Roi Souverain Prêtre - Église Saint-Patrice - Rouen - ECPv4.9.12//NONSGML v1.0//EN
CALSCALE:GREGORIAN
METHOD:PUBLISH
X-WR-CALNAME:Institut du Christ Roi Souverain Prêtre - Église Saint-Patrice - Rouen
X-ORIGINAL-URL:https://icrsp-rouen.com
X-WR-CALDESC:Évènements pour Institut du Christ Roi Souverain Prêtre - Église Saint-Patrice - Rouen
BEGIN:VTIMEZONE
TZID:Europe/Paris
BEGIN:DAYLIGHT
TZOFFSETFROM:+0100
TZOFFSETTO:+0200
TZNAME:CEST
DTSTART:20230326T010000
END:DAYLIGHT
BEGIN:STANDARD
TZOFFSETFROM:+0200
TZOFFSETTO:+0100
TZNAME:CET
DTSTART:20231029T010000
END:STANDARD
END:VTIMEZONE
BEGIN:VEVENT
DTSTART;VALUE=DATE:20230402
DTEND;VALUE=DATE:20230403
DTSTAMP:20260426T042501
CREATED:20230325T164138Z
LAST-MODIFIED:20230325T164201Z
UID:12917-1680393600-1680479999@icrsp-rouen.com
SUMMARY:Dimanche des Rameaux (2ème de la Passion)
DESCRIPTION:
URL:https://icrsp-rouen.com/event/dimanche-des-rameaux-3/
CATEGORIES:Messe
END:VEVENT
BEGIN:VEVENT
DTSTART;TZID=Europe/Paris:20230402T100000
DTEND;TZID=Europe/Paris:20230402T100000
DTSTAMP:20260426T042501
CREATED:20230325T164646Z
LAST-MODIFIED:20230325T164646Z
UID:12926-1680429600-1680429600@icrsp-rouen.com
SUMMARY:Bénédiction des Rameaux\, Procession et Messe
DESCRIPTION:
URL:https://icrsp-rouen.com/event/benediction-des-rameaux-procession-et-messe/
CATEGORIES:Messe
END:VEVENT
END:VCALENDAR