BEGIN:VCALENDAR
VERSION:2.0
PRODID:-//Institut du Christ Roi Souverain Prêtre - Église Saint-Patrice - Rouen - ECPv4.9.12//NONSGML v1.0//EN
CALSCALE:GREGORIAN
METHOD:PUBLISH
X-WR-CALNAME:Institut du Christ Roi Souverain Prêtre - Église Saint-Patrice - Rouen
X-ORIGINAL-URL:https://icrsp-rouen.com
X-WR-CALDESC:Évènements pour Institut du Christ Roi Souverain Prêtre - Église Saint-Patrice - Rouen
BEGIN:VTIMEZONE
TZID:Europe/Paris
BEGIN:DAYLIGHT
TZOFFSETFROM:+0100
TZOFFSETTO:+0200
TZNAME:CEST
DTSTART:20230326T010000
END:DAYLIGHT
BEGIN:STANDARD
TZOFFSETFROM:+0200
TZOFFSETTO:+0100
TZNAME:CET
DTSTART:20231029T010000
END:STANDARD
END:VTIMEZONE
BEGIN:VEVENT
DTSTART;VALUE=DATE:20230116
DTEND;VALUE=DATE:20230117
DTSTAMP:20260425T215756
CREATED:20230113T123543Z
LAST-MODIFIED:20230113T123543Z
UID:11990-1673827200-1673913599@icrsp-rouen.com
SUMMARY:Saint Marcel\, 1er Pape et Martyr
DESCRIPTION:
URL:https://icrsp-rouen.com/event/saint-marcel-1er-pape-et-martyr-3/
CATEGORIES:Messe
END:VEVENT
BEGIN:VEVENT
DTSTART;TZID=Europe/Paris:20230116T090000
DTEND;TZID=Europe/Paris:20230116T090000
DTSTAMP:20260425T215756
CREATED:20230113T123618Z
LAST-MODIFIED:20230113T123618Z
UID:11992-1673859600-1673859600@icrsp-rouen.com
SUMMARY:Messe
DESCRIPTION:
URL:https://icrsp-rouen.com/event/messe-915/
CATEGORIES:Messe
END:VEVENT
BEGIN:VEVENT
DTSTART;TZID=Europe/Paris:20230116T183000
DTEND;TZID=Europe/Paris:20230116T183000
DTSTAMP:20260425T215756
CREATED:20230113T123649Z
LAST-MODIFIED:20230113T123649Z
UID:11994-1673893800-1673893800@icrsp-rouen.com
SUMMARY:Messe
DESCRIPTION:
URL:https://icrsp-rouen.com/event/messe-916/
CATEGORIES:Messe
END:VEVENT
END:VCALENDAR