BEGIN:VCALENDAR
VERSION:2.0
PRODID:-//Institut du Christ Roi Souverain Prêtre - Église Saint-Patrice - Rouen - ECPv4.9.12//NONSGML v1.0//EN
CALSCALE:GREGORIAN
METHOD:PUBLISH
X-WR-CALNAME:Institut du Christ Roi Souverain Prêtre - Église Saint-Patrice - Rouen
X-ORIGINAL-URL:https://icrsp-rouen.com
X-WR-CALDESC:Évènements pour Institut du Christ Roi Souverain Prêtre - Église Saint-Patrice - Rouen
BEGIN:VTIMEZONE
TZID:Europe/Paris
BEGIN:DAYLIGHT
TZOFFSETFROM:+0100
TZOFFSETTO:+0200
TZNAME:CEST
DTSTART:20230326T010000
END:DAYLIGHT
BEGIN:STANDARD
TZOFFSETFROM:+0200
TZOFFSETTO:+0100
TZNAME:CET
DTSTART:20231029T010000
END:STANDARD
END:VTIMEZONE
BEGIN:VEVENT
DTSTART;VALUE=DATE:20230111
DTEND;VALUE=DATE:20230112
DTSTAMP:20260425T144612
CREATED:20230106T141834Z
LAST-MODIFIED:20230106T141834Z
UID:11892-1673395200-1673481599@icrsp-rouen.com
SUMMARY:Férie
DESCRIPTION:
URL:https://icrsp-rouen.com/event/ferie-193/
CATEGORIES:Messe
END:VEVENT
BEGIN:VEVENT
DTSTART;TZID=Europe/Paris:20230111T070000
DTEND;TZID=Europe/Paris:20230111T070000
DTSTAMP:20260425T144612
CREATED:20230106T141929Z
LAST-MODIFIED:20230106T141929Z
UID:11894-1673420400-1673420400@icrsp-rouen.com
SUMMARY:Messe
DESCRIPTION:suivie du petit-déjeuner au presbytère \n
URL:https://icrsp-rouen.com/event/messe-910/
CATEGORIES:Messe
END:VEVENT
BEGIN:VEVENT
DTSTART;TZID=Europe/Paris:20230111T183000
DTEND;TZID=Europe/Paris:20230111T183000
DTSTAMP:20260425T144612
CREATED:20230106T142043Z
LAST-MODIFIED:20230106T142043Z
UID:11898-1673461800-1673461800@icrsp-rouen.com
SUMMARY:Messe
DESCRIPTION:
URL:https://icrsp-rouen.com/event/messe-911/
CATEGORIES:Messe
END:VEVENT
END:VCALENDAR