BEGIN:VCALENDAR
VERSION:2.0
PRODID:-//Institut du Christ Roi Souverain Prêtre - Église Saint-Patrice - Rouen - ECPv4.9.12//NONSGML v1.0//EN
CALSCALE:GREGORIAN
METHOD:PUBLISH
X-WR-CALNAME:Institut du Christ Roi Souverain Prêtre - Église Saint-Patrice - Rouen
X-ORIGINAL-URL:https://icrsp-rouen.com
X-WR-CALDESC:Évènements pour Institut du Christ Roi Souverain Prêtre - Église Saint-Patrice - Rouen
BEGIN:VTIMEZONE
TZID:Europe/Paris
BEGIN:DAYLIGHT
TZOFFSETFROM:+0100
TZOFFSETTO:+0200
TZNAME:CEST
DTSTART:20230326T010000
END:DAYLIGHT
BEGIN:STANDARD
TZOFFSETFROM:+0200
TZOFFSETTO:+0100
TZNAME:CET
DTSTART:20231029T010000
END:STANDARD
END:VTIMEZONE
BEGIN:VEVENT
DTSTART;VALUE=DATE:20230102
DTEND;VALUE=DATE:20230103
DTSTAMP:20260425T030319
CREATED:20221230T202554Z
LAST-MODIFIED:20221230T202554Z
UID:11812-1672617600-1672703999@icrsp-rouen.com
SUMMARY:Saint Nom de Jésus
DESCRIPTION:
URL:https://icrsp-rouen.com/event/saint-nom-de-jesus-2/
CATEGORIES:Messe
END:VEVENT
BEGIN:VEVENT
DTSTART;TZID=Europe/Paris:20230102T090000
DTEND;TZID=Europe/Paris:20230102T090000
DTSTAMP:20260425T030319
CREATED:20221230T202629Z
LAST-MODIFIED:20221230T202629Z
UID:11814-1672650000-1672650000@icrsp-rouen.com
SUMMARY:Messe
DESCRIPTION:
URL:https://icrsp-rouen.com/event/messe-897/
CATEGORIES:Messe
END:VEVENT
BEGIN:VEVENT
DTSTART;TZID=Europe/Paris:20230102T183000
DTEND;TZID=Europe/Paris:20230102T183000
DTSTAMP:20260425T030319
CREATED:20221230T202702Z
LAST-MODIFIED:20221230T202702Z
UID:11816-1672684200-1672684200@icrsp-rouen.com
SUMMARY:Messe
DESCRIPTION:
URL:https://icrsp-rouen.com/event/messe-898/
CATEGORIES:Messe
END:VEVENT
END:VCALENDAR