BEGIN:VCALENDAR
VERSION:2.0
PRODID:-//Institut du Christ Roi Souverain Prêtre - Église Saint-Patrice - Rouen - ECPv4.9.12//NONSGML v1.0//EN
CALSCALE:GREGORIAN
METHOD:PUBLISH
X-WR-CALNAME:Institut du Christ Roi Souverain Prêtre - Église Saint-Patrice - Rouen
X-ORIGINAL-URL:https://icrsp-rouen.com
X-WR-CALDESC:Évènements pour Institut du Christ Roi Souverain Prêtre - Église Saint-Patrice - Rouen
BEGIN:VTIMEZONE
TZID:Europe/Paris
BEGIN:DAYLIGHT
TZOFFSETFROM:+0100
TZOFFSETTO:+0200
TZNAME:CEST
DTSTART:20220327T010000
END:DAYLIGHT
BEGIN:STANDARD
TZOFFSETFROM:+0200
TZOFFSETTO:+0100
TZNAME:CET
DTSTART:20221030T010000
END:STANDARD
END:VTIMEZONE
BEGIN:VEVENT
DTSTART;VALUE=DATE:20221229
DTEND;VALUE=DATE:20221230
DTSTAMP:20260424T221634
CREATED:20221224T095333Z
LAST-MODIFIED:20221224T095333Z
UID:11785-1672272000-1672358399@icrsp-rouen.com
SUMMARY:5ème jour de l'Octave de Noël
DESCRIPTION:
URL:https://icrsp-rouen.com/event/5eme-jour-de-loctave-de-noel/
CATEGORIES:Messe
END:VEVENT
BEGIN:VEVENT
DTSTART;VALUE=DATE:20221229
DTEND;VALUE=DATE:20221230
DTSTAMP:20260424T221634
CREATED:20221224T095407Z
LAST-MODIFIED:20221224T095407Z
UID:11787-1672272000-1672358399@icrsp-rouen.com
SUMMARY:PAS DE MESSE
DESCRIPTION:
URL:https://icrsp-rouen.com/event/pas-de-messe-41/
CATEGORIES:Messe
END:VEVENT
END:VCALENDAR