BEGIN:VCALENDAR
VERSION:2.0
PRODID:-//Institut du Christ Roi Souverain Prêtre - Église Saint-Patrice - Rouen - ECPv4.9.12//NONSGML v1.0//EN
CALSCALE:GREGORIAN
METHOD:PUBLISH
X-WR-CALNAME:Institut du Christ Roi Souverain Prêtre - Église Saint-Patrice - Rouen
X-ORIGINAL-URL:https://icrsp-rouen.com
X-WR-CALDESC:Évènements pour Institut du Christ Roi Souverain Prêtre - Église Saint-Patrice - Rouen
BEGIN:VTIMEZONE
TZID:Europe/Paris
BEGIN:DAYLIGHT
TZOFFSETFROM:+0100
TZOFFSETTO:+0200
TZNAME:CEST
DTSTART:20220327T010000
END:DAYLIGHT
BEGIN:STANDARD
TZOFFSETFROM:+0200
TZOFFSETTO:+0100
TZNAME:CET
DTSTART:20221030T010000
END:STANDARD
END:VTIMEZONE
BEGIN:VEVENT
DTSTART;VALUE=DATE:20221228
DTEND;VALUE=DATE:20221229
DTSTAMP:20260424T205736
CREATED:20221224T095155Z
LAST-MODIFIED:20221224T095208Z
UID:11780-1672185600-1672271999@icrsp-rouen.com
SUMMARY:Saints Innocents\, Martyrs
DESCRIPTION:
URL:https://icrsp-rouen.com/event/saints-innocents/
CATEGORIES:Messe
END:VEVENT
BEGIN:VEVENT
DTSTART;VALUE=DATE:20221228
DTEND;VALUE=DATE:20221229
DTSTAMP:20260424T205736
CREATED:20221224T095244Z
LAST-MODIFIED:20221224T095244Z
UID:11783-1672185600-1672271999@icrsp-rouen.com
SUMMARY:PAS DE MESSE
DESCRIPTION:
URL:https://icrsp-rouen.com/event/pas-de-messe-40/
CATEGORIES:Messe
END:VEVENT
END:VCALENDAR