BEGIN:VCALENDAR
VERSION:2.0
PRODID:-//Institut du Christ Roi Souverain Prêtre - Église Saint-Patrice - Rouen - ECPv4.9.12//NONSGML v1.0//EN
CALSCALE:GREGORIAN
METHOD:PUBLISH
X-WR-CALNAME:Institut du Christ Roi Souverain Prêtre - Église Saint-Patrice - Rouen
X-ORIGINAL-URL:https://icrsp-rouen.com
X-WR-CALDESC:Évènements pour Institut du Christ Roi Souverain Prêtre - Église Saint-Patrice - Rouen
BEGIN:VTIMEZONE
TZID:Europe/Paris
BEGIN:DAYLIGHT
TZOFFSETFROM:+0100
TZOFFSETTO:+0200
TZNAME:CEST
DTSTART:20220327T010000
END:DAYLIGHT
BEGIN:STANDARD
TZOFFSETFROM:+0200
TZOFFSETTO:+0100
TZNAME:CET
DTSTART:20221030T010000
END:STANDARD
END:VTIMEZONE
BEGIN:VEVENT
DTSTART;VALUE=DATE:20221221
DTEND;VALUE=DATE:20221222
DTSTAMP:20260424T220918
CREATED:20221216T173455Z
LAST-MODIFIED:20221216T173455Z
UID:11763-1671580800-1671667199@icrsp-rouen.com
SUMMARY:Saint Thomas\, Apôtre
DESCRIPTION:
URL:https://icrsp-rouen.com/event/saint-thomas-apotre-4/
CATEGORIES:Messe
END:VEVENT
BEGIN:VEVENT
DTSTART;TZID=Europe/Paris:20221221T121500
DTEND;TZID=Europe/Paris:20221221T121500
DTSTAMP:20260424T220918
CREATED:20221215T165401Z
LAST-MODIFIED:20221216T173635Z
UID:11705-1671624900-1671624900@icrsp-rouen.com
SUMMARY:Messe
DESCRIPTION:
URL:https://icrsp-rouen.com/event/messe-888/
CATEGORIES:Messe
END:VEVENT
BEGIN:VEVENT
DTSTART;TZID=Europe/Paris:20221221T183000
DTEND;TZID=Europe/Paris:20221221T183000
DTSTAMP:20260424T220918
CREATED:20221215T165427Z
LAST-MODIFIED:20221215T165427Z
UID:11707-1671647400-1671647400@icrsp-rouen.com
SUMMARY:Messe
DESCRIPTION:
URL:https://icrsp-rouen.com/event/messe-890/
CATEGORIES:Messe
END:VEVENT
END:VCALENDAR