BEGIN:VCALENDAR
VERSION:2.0
PRODID:-//Institut du Christ Roi Souverain Prêtre - Église Saint-Patrice - Rouen - ECPv4.9.12//NONSGML v1.0//EN
CALSCALE:GREGORIAN
METHOD:PUBLISH
X-WR-CALNAME:Institut du Christ Roi Souverain Prêtre - Église Saint-Patrice - Rouen
X-ORIGINAL-URL:https://icrsp-rouen.com
X-WR-CALDESC:Évènements pour Institut du Christ Roi Souverain Prêtre - Église Saint-Patrice - Rouen
BEGIN:VTIMEZONE
TZID:Europe/Paris
BEGIN:DAYLIGHT
TZOFFSETFROM:+0100
TZOFFSETTO:+0200
TZNAME:CEST
DTSTART:20220327T010000
END:DAYLIGHT
BEGIN:STANDARD
TZOFFSETFROM:+0200
TZOFFSETTO:+0100
TZNAME:CET
DTSTART:20221030T010000
END:STANDARD
END:VTIMEZONE
BEGIN:VEVENT
DTSTART;VALUE=DATE:20221211
DTEND;VALUE=DATE:20221212
DTSTAMP:20260425T103148
CREATED:20221203T144457Z
LAST-MODIFIED:20221203T144457Z
UID:11562-1670716800-1670803199@icrsp-rouen.com
SUMMARY:Troisième Dimanche de l'Avent\, dit de "Gaudete"
DESCRIPTION:
URL:https://icrsp-rouen.com/event/troisieme-dimanche-de-lavent-dit-de-gaudete-2/
CATEGORIES:Messe
END:VEVENT
BEGIN:VEVENT
DTSTART;TZID=Europe/Paris:20221211T103000
DTEND;TZID=Europe/Paris:20221211T103000
DTSTAMP:20260425T103148
CREATED:20221203T144815Z
LAST-MODIFIED:20221203T144815Z
UID:11570-1670754600-1670754600@icrsp-rouen.com
SUMMARY:Messe chantée
DESCRIPTION:
URL:https://icrsp-rouen.com/event/messe-chantee-142/
CATEGORIES:Messe
END:VEVENT
END:VCALENDAR