BEGIN:VCALENDAR
VERSION:2.0
PRODID:-//Institut du Christ Roi Souverain Prêtre - Église Saint-Patrice - Rouen - ECPv4.9.12//NONSGML v1.0//EN
CALSCALE:GREGORIAN
METHOD:PUBLISH
X-WR-CALNAME:Institut du Christ Roi Souverain Prêtre - Église Saint-Patrice - Rouen
X-ORIGINAL-URL:https://icrsp-rouen.com
X-WR-CALDESC:Évènements pour Institut du Christ Roi Souverain Prêtre - Église Saint-Patrice - Rouen
BEGIN:VTIMEZONE
TZID:Europe/Paris
BEGIN:DAYLIGHT
TZOFFSETFROM:+0100
TZOFFSETTO:+0200
TZNAME:CEST
DTSTART:20220327T010000
END:DAYLIGHT
BEGIN:STANDARD
TZOFFSETFROM:+0200
TZOFFSETTO:+0100
TZNAME:CET
DTSTART:20221030T010000
END:STANDARD
END:VTIMEZONE
BEGIN:VEVENT
DTSTART;VALUE=DATE:20221208
DTEND;VALUE=DATE:20221209
DTSTAMP:20260425T143343
CREATED:20221105T092131Z
LAST-MODIFIED:20221203T145055Z
UID:11229-1670457600-1670543999@icrsp-rouen.com
SUMMARY:Fête de l'Immaculée Conception\, patronne principale de l'ICRSP
DESCRIPTION:
URL:https://icrsp-rouen.com/event/fete-de-limmaculee-conception-patronne-principale-de-licrsp/
CATEGORIES:Activités,Messe
ATTACH;FMTTYPE=image/jpeg:https://icrsp-rouen.com/wp-content/uploads/2022/11/Rizi-inmaculada-scaled.jpg
END:VEVENT
BEGIN:VEVENT
DTSTART;TZID=Europe/Paris:20221208T183000
DTEND;TZID=Europe/Paris:20221208T183000
DTSTAMP:20260425T143343
CREATED:20221203T145136Z
LAST-MODIFIED:20221203T145136Z
UID:11575-1670524200-1670524200@icrsp-rouen.com
SUMMARY:Messe chantée
DESCRIPTION:( indulgence plénière) \n
URL:https://icrsp-rouen.com/event/messe-chantee-143/
CATEGORIES:Messe
END:VEVENT
END:VCALENDAR