BEGIN:VCALENDAR
VERSION:2.0
PRODID:-//Institut du Christ Roi Souverain Prêtre - Église Saint-Patrice - Rouen - ECPv4.9.12//NONSGML v1.0//EN
CALSCALE:GREGORIAN
METHOD:PUBLISH
X-WR-CALNAME:Institut du Christ Roi Souverain Prêtre - Église Saint-Patrice - Rouen
X-ORIGINAL-URL:https://icrsp-rouen.com
X-WR-CALDESC:Évènements pour Institut du Christ Roi Souverain Prêtre - Église Saint-Patrice - Rouen
BEGIN:VTIMEZONE
TZID:Europe/Paris
BEGIN:DAYLIGHT
TZOFFSETFROM:+0100
TZOFFSETTO:+0200
TZNAME:CEST
DTSTART:20220327T010000
END:DAYLIGHT
BEGIN:STANDARD
TZOFFSETFROM:+0200
TZOFFSETTO:+0100
TZNAME:CET
DTSTART:20221030T010000
END:STANDARD
END:VTIMEZONE
BEGIN:VEVENT
DTSTART;VALUE=DATE:20221207
DTEND;VALUE=DATE:20221208
DTSTAMP:20260425T160005
CREATED:20221203T142654Z
LAST-MODIFIED:20221203T142654Z
UID:11513-1670371200-1670457599@icrsp-rouen.com
SUMMARY:Saint Ambroise\, Évêque\, Confesseur et Docteur de l'Eglise
DESCRIPTION:
URL:https://icrsp-rouen.com/event/saint-ambroise-eveque-confesseur-et-docteur-de-leglise/
CATEGORIES:Messe
END:VEVENT
BEGIN:VEVENT
DTSTART;TZID=Europe/Paris:20221207T070000
DTEND;TZID=Europe/Paris:20221207T070000
DTSTAMP:20260425T160005
CREATED:20221203T142736Z
LAST-MODIFIED:20221203T142756Z
UID:11515-1670396400-1670396400@icrsp-rouen.com
SUMMARY:Messe
DESCRIPTION:suivie du petit-déjeuner au presbytère \n
URL:https://icrsp-rouen.com/event/messe-872/
CATEGORIES:Messe
END:VEVENT
BEGIN:VEVENT
DTSTART;TZID=Europe/Paris:20221207T121500
DTEND;TZID=Europe/Paris:20221207T121500
DTSTAMP:20260425T160005
CREATED:20221203T142859Z
LAST-MODIFIED:20221203T142859Z
UID:11518-1670415300-1670415300@icrsp-rouen.com
SUMMARY:Messe
DESCRIPTION:suivie de la neuvaine à la fête de l’Immaculée Conception \n
URL:https://icrsp-rouen.com/event/messe-873/
CATEGORIES:Messe
END:VEVENT
END:VCALENDAR