BEGIN:VCALENDAR
VERSION:2.0
PRODID:-//Institut du Christ Roi Souverain Prêtre - Église Saint-Patrice - Rouen - ECPv4.9.12//NONSGML v1.0//EN
CALSCALE:GREGORIAN
METHOD:PUBLISH
X-WR-CALNAME:Institut du Christ Roi Souverain Prêtre - Église Saint-Patrice - Rouen
X-ORIGINAL-URL:https://icrsp-rouen.com
X-WR-CALDESC:Évènements pour Institut du Christ Roi Souverain Prêtre - Église Saint-Patrice - Rouen
BEGIN:VTIMEZONE
TZID:Europe/Paris
BEGIN:DAYLIGHT
TZOFFSETFROM:+0100
TZOFFSETTO:+0200
TZNAME:CEST
DTSTART:20220327T010000
END:DAYLIGHT
BEGIN:STANDARD
TZOFFSETFROM:+0200
TZOFFSETTO:+0100
TZNAME:CET
DTSTART:20221030T010000
END:STANDARD
END:VTIMEZONE
BEGIN:VEVENT
DTSTART;VALUE=DATE:20221130
DTEND;VALUE=DATE:20221201
DTSTAMP:20260426T015328
CREATED:20221126T092116Z
LAST-MODIFIED:20221126T092116Z
UID:11419-1669766400-1669852799@icrsp-rouen.com
SUMMARY:Saint André\, Apôtre
DESCRIPTION:
URL:https://icrsp-rouen.com/event/saint-andre-apotre-2/
CATEGORIES:Messe
END:VEVENT
BEGIN:VEVENT
DTSTART;TZID=Europe/Paris:20221130T070000
DTEND;TZID=Europe/Paris:20221130T070000
DTSTAMP:20260426T015328
CREATED:20221126T092208Z
LAST-MODIFIED:20221126T092208Z
UID:11421-1669791600-1669791600@icrsp-rouen.com
SUMMARY:Messe
DESCRIPTION:suivie du petit-déjeuner au presbytère \n
URL:https://icrsp-rouen.com/event/messe-864/
CATEGORIES:Messe
END:VEVENT
BEGIN:VEVENT
DTSTART;TZID=Europe/Paris:20221130T183000
DTEND;TZID=Europe/Paris:20221130T183000
DTSTAMP:20260426T015328
CREATED:20221126T092410Z
LAST-MODIFIED:20221126T092410Z
UID:11425-1669833000-1669833000@icrsp-rouen.com
SUMMARY:Messe
DESCRIPTION:à l’issue\, neuvaine de préparation à la fête de l’Immaculée Conception \n
URL:https://icrsp-rouen.com/event/messe-865/
CATEGORIES:Messe
END:VEVENT
END:VCALENDAR