BEGIN:VCALENDAR
VERSION:2.0
PRODID:-//Institut du Christ Roi Souverain Prêtre - Église Saint-Patrice - Rouen - ECPv4.9.12//NONSGML v1.0//EN
CALSCALE:GREGORIAN
METHOD:PUBLISH
X-WR-CALNAME:Institut du Christ Roi Souverain Prêtre - Église Saint-Patrice - Rouen
X-ORIGINAL-URL:https://icrsp-rouen.com
X-WR-CALDESC:Évènements pour Institut du Christ Roi Souverain Prêtre - Église Saint-Patrice - Rouen
BEGIN:VTIMEZONE
TZID:Europe/Paris
BEGIN:DAYLIGHT
TZOFFSETFROM:+0100
TZOFFSETTO:+0200
TZNAME:CEST
DTSTART:20220327T010000
END:DAYLIGHT
BEGIN:STANDARD
TZOFFSETFROM:+0200
TZOFFSETTO:+0100
TZNAME:CET
DTSTART:20221030T010000
END:STANDARD
END:VTIMEZONE
BEGIN:VEVENT
DTSTART;VALUE=DATE:20221123
DTEND;VALUE=DATE:20221124
DTSTAMP:20260425T152755
CREATED:20221119T084517Z
LAST-MODIFIED:20221119T084517Z
UID:11330-1669161600-1669247999@icrsp-rouen.com
SUMMARY:Saint Clément 1er\, Pape et Martyr
DESCRIPTION:
URL:https://icrsp-rouen.com/event/saint-clement-1er-pape-et-martyr-2/
CATEGORIES:Messe
END:VEVENT
BEGIN:VEVENT
DTSTART;TZID=Europe/Paris:20221123T070000
DTEND;TZID=Europe/Paris:20221123T070000
DTSTAMP:20260425T152755
CREATED:20221119T084619Z
LAST-MODIFIED:20221119T084619Z
UID:11332-1669186800-1669186800@icrsp-rouen.com
SUMMARY:Messe
DESCRIPTION:suivie du petit déjeuner au presbytère \n
URL:https://icrsp-rouen.com/event/messe-857/
CATEGORIES:Messe
END:VEVENT
BEGIN:VEVENT
DTSTART;TZID=Europe/Paris:20221123T183000
DTEND;TZID=Europe/Paris:20221123T183000
DTSTAMP:20260425T152755
CREATED:20221119T084736Z
LAST-MODIFIED:20221119T084736Z
UID:11336-1669228200-1669228200@icrsp-rouen.com
SUMMARY:Messe
DESCRIPTION:
URL:https://icrsp-rouen.com/event/messe-858/
CATEGORIES:Messe
END:VEVENT
END:VCALENDAR