BEGIN:VCALENDAR
VERSION:2.0
PRODID:-//Institut du Christ Roi Souverain Prêtre - Église Saint-Patrice - Rouen - ECPv4.9.12//NONSGML v1.0//EN
CALSCALE:GREGORIAN
METHOD:PUBLISH
X-WR-CALNAME:Institut du Christ Roi Souverain Prêtre - Église Saint-Patrice - Rouen
X-ORIGINAL-URL:https://icrsp-rouen.com
X-WR-CALDESC:Évènements pour Institut du Christ Roi Souverain Prêtre - Église Saint-Patrice - Rouen
BEGIN:VTIMEZONE
TZID:Europe/Paris
BEGIN:DAYLIGHT
TZOFFSETFROM:+0100
TZOFFSETTO:+0200
TZNAME:CEST
DTSTART:20220327T010000
END:DAYLIGHT
BEGIN:STANDARD
TZOFFSETFROM:+0200
TZOFFSETTO:+0100
TZNAME:CET
DTSTART:20221030T010000
END:STANDARD
END:VTIMEZONE
BEGIN:VEVENT
DTSTART;VALUE=DATE:20221122
DTEND;VALUE=DATE:20221123
DTSTAMP:20260425T133532
CREATED:20221119T084111Z
LAST-MODIFIED:20221119T084111Z
UID:11320-1669075200-1669161599@icrsp-rouen.com
SUMMARY:Sainte Cécile\, Vierge et Martyre
DESCRIPTION:
URL:https://icrsp-rouen.com/event/sainte-cecile-vierge-et-martyre-2/
CATEGORIES:Messe
END:VEVENT
BEGIN:VEVENT
DTSTART;TZID=Europe/Paris:20221122T090000
DTEND;TZID=Europe/Paris:20221122T090000
DTSTAMP:20260425T133532
CREATED:20221119T084209Z
LAST-MODIFIED:20221119T084209Z
UID:11322-1669107600-1669107600@icrsp-rouen.com
SUMMARY:Messe
DESCRIPTION:
URL:https://icrsp-rouen.com/event/messe-856/
CATEGORIES:Messe
END:VEVENT
END:VCALENDAR