BEGIN:VCALENDAR
VERSION:2.0
PRODID:-//Institut du Christ Roi Souverain Prêtre - Église Saint-Patrice - Rouen - ECPv4.9.12//NONSGML v1.0//EN
CALSCALE:GREGORIAN
METHOD:PUBLISH
X-WR-CALNAME:Institut du Christ Roi Souverain Prêtre - Église Saint-Patrice - Rouen
X-ORIGINAL-URL:https://icrsp-rouen.com
X-WR-CALDESC:Évènements pour Institut du Christ Roi Souverain Prêtre - Église Saint-Patrice - Rouen
BEGIN:VTIMEZONE
TZID:Europe/Paris
BEGIN:DAYLIGHT
TZOFFSETFROM:+0100
TZOFFSETTO:+0200
TZNAME:CEST
DTSTART:20220327T010000
END:DAYLIGHT
BEGIN:STANDARD
TZOFFSETFROM:+0200
TZOFFSETTO:+0100
TZNAME:CET
DTSTART:20221030T010000
END:STANDARD
END:VTIMEZONE
BEGIN:VEVENT
DTSTART;VALUE=DATE:20221117
DTEND;VALUE=DATE:20221118
DTSTAMP:20260423T072711
CREATED:20221111T122747Z
LAST-MODIFIED:20221111T122747Z
UID:11263-1668643200-1668729599@icrsp-rouen.com
SUMMARY:Saint Grégoire le Thaumaturge\, Évêque et Confesseur
DESCRIPTION:
URL:https://icrsp-rouen.com/event/saint-gregoire-le-thaumaturge-eveque-et-confesseur-2/
CATEGORIES:Messe
END:VEVENT
BEGIN:VEVENT
DTSTART;TZID=Europe/Paris:20221117T183000
DTEND;TZID=Europe/Paris:20221117T183000
DTSTAMP:20260423T072711
CREATED:20221111T122903Z
LAST-MODIFIED:20221111T122904Z
UID:11267-1668709800-1668709800@icrsp-rouen.com
SUMMARY:Messe
DESCRIPTION:
URL:https://icrsp-rouen.com/event/messe-852/
CATEGORIES:Messe
END:VEVENT
END:VCALENDAR