BEGIN:VCALENDAR
VERSION:2.0
PRODID:-//Institut du Christ Roi Souverain Prêtre - Église Saint-Patrice - Rouen - ECPv4.9.12//NONSGML v1.0//EN
CALSCALE:GREGORIAN
METHOD:PUBLISH
X-WR-CALNAME:Institut du Christ Roi Souverain Prêtre - Église Saint-Patrice - Rouen
X-ORIGINAL-URL:https://icrsp-rouen.com
X-WR-CALDESC:Évènements pour Institut du Christ Roi Souverain Prêtre - Église Saint-Patrice - Rouen
BEGIN:VTIMEZONE
TZID:Europe/Paris
BEGIN:DAYLIGHT
TZOFFSETFROM:+0100
TZOFFSETTO:+0200
TZNAME:CEST
DTSTART:20220327T010000
END:DAYLIGHT
BEGIN:STANDARD
TZOFFSETFROM:+0200
TZOFFSETTO:+0100
TZNAME:CET
DTSTART:20221030T010000
END:STANDARD
END:VTIMEZONE
BEGIN:VEVENT
DTSTART;VALUE=DATE:20221115
DTEND;VALUE=DATE:20221116
DTSTAMP:20260423T043445
CREATED:20221111T122123Z
LAST-MODIFIED:20221111T122123Z
UID:11243-1668470400-1668556799@icrsp-rouen.com
SUMMARY:Saint Albert le Grand\, Évêque\, Confesseur et Docteur de l'Église
DESCRIPTION:
URL:https://icrsp-rouen.com/event/saint-albert-le-grand-eveque-confesseur-et-docteur-de-leglise/
CATEGORIES:Messe
END:VEVENT
BEGIN:VEVENT
DTSTART;TZID=Europe/Paris:20221115T090000
DTEND;TZID=Europe/Paris:20221115T090000
DTSTAMP:20260423T043445
CREATED:20221111T122202Z
LAST-MODIFIED:20221111T122202Z
UID:11245-1668502800-1668502800@icrsp-rouen.com
SUMMARY:Messe
DESCRIPTION:
URL:https://icrsp-rouen.com/event/messe-848/
CATEGORIES:Messe
END:VEVENT
BEGIN:VEVENT
DTSTART;TZID=Europe/Paris:20221115T121500
DTEND;TZID=Europe/Paris:20221115T121500
DTSTAMP:20260423T043445
CREATED:20221111T122241Z
LAST-MODIFIED:20221111T122241Z
UID:11247-1668514500-1668514500@icrsp-rouen.com
SUMMARY:Messe
DESCRIPTION:
URL:https://icrsp-rouen.com/event/messe-849/
CATEGORIES:Messe
END:VEVENT
END:VCALENDAR