BEGIN:VCALENDAR
VERSION:2.0
PRODID:-//Institut du Christ Roi Souverain Prêtre - Église Saint-Patrice - Rouen - ECPv4.9.12//NONSGML v1.0//EN
CALSCALE:GREGORIAN
METHOD:PUBLISH
X-WR-CALNAME:Institut du Christ Roi Souverain Prêtre - Église Saint-Patrice - Rouen
X-ORIGINAL-URL:https://icrsp-rouen.com
X-WR-CALDESC:Évènements pour Institut du Christ Roi Souverain Prêtre - Église Saint-Patrice - Rouen
BEGIN:VTIMEZONE
TZID:Europe/Paris
BEGIN:DAYLIGHT
TZOFFSETFROM:+0100
TZOFFSETTO:+0200
TZNAME:CEST
DTSTART:20220327T010000
END:DAYLIGHT
BEGIN:STANDARD
TZOFFSETFROM:+0200
TZOFFSETTO:+0100
TZNAME:CET
DTSTART:20221030T010000
END:STANDARD
END:VTIMEZONE
BEGIN:VEVENT
DTSTART;VALUE=DATE:20221103
DTEND;VALUE=DATE:20221104
DTSTAMP:20260422T115835
CREATED:20221029T110210Z
LAST-MODIFIED:20221029T110210Z
UID:11052-1667433600-1667519999@icrsp-rouen.com
SUMMARY:Commémoration des défunts de l'ICRSP
DESCRIPTION:
URL:https://icrsp-rouen.com/event/commemoration-des-defunts-de-licrsp/
CATEGORIES:Messe
END:VEVENT
BEGIN:VEVENT
DTSTART;TZID=Europe/Paris:20221103T183000
DTEND;TZID=Europe/Paris:20221103T183000
DTSTAMP:20260422T115835
CREATED:20221029T110334Z
LAST-MODIFIED:20221029T110334Z
UID:11056-1667500200-1667500200@icrsp-rouen.com
SUMMARY:Messe de Requiem
DESCRIPTION:
URL:https://icrsp-rouen.com/event/messe-de-requiem-4/
CATEGORIES:Messe
END:VEVENT
END:VCALENDAR