BEGIN:VCALENDAR
VERSION:2.0
PRODID:-//Institut du Christ Roi Souverain Prêtre - Église Saint-Patrice - Rouen - ECPv4.9.12//NONSGML v1.0//EN
CALSCALE:GREGORIAN
METHOD:PUBLISH
X-WR-CALNAME:Institut du Christ Roi Souverain Prêtre - Église Saint-Patrice - Rouen
X-ORIGINAL-URL:https://icrsp-rouen.com
X-WR-CALDESC:Évènements pour Institut du Christ Roi Souverain Prêtre - Église Saint-Patrice - Rouen
BEGIN:VTIMEZONE
TZID:Europe/Paris
BEGIN:DAYLIGHT
TZOFFSETFROM:+0100
TZOFFSETTO:+0200
TZNAME:CEST
DTSTART:20220327T010000
END:DAYLIGHT
BEGIN:STANDARD
TZOFFSETFROM:+0200
TZOFFSETTO:+0100
TZNAME:CET
DTSTART:20221030T010000
END:STANDARD
END:VTIMEZONE
BEGIN:VEVENT
DTSTART;VALUE=DATE:20221102
DTEND;VALUE=DATE:20221103
DTSTAMP:20260422T102702
CREATED:20221014T203211Z
LAST-MODIFIED:20221014T203211Z
UID:10928-1667347200-1667433599@icrsp-rouen.com
SUMMARY:Commémoration de tous les défunts
DESCRIPTION:
URL:https://icrsp-rouen.com/event/commemoration-de-tous-les-defunts/
CATEGORIES:Messe
END:VEVENT
BEGIN:VEVENT
DTSTART;TZID=Europe/Paris:20221102T070000
DTEND;TZID=Europe/Paris:20221102T070000
DTSTAMP:20260422T102702
CREATED:20221014T203257Z
LAST-MODIFIED:20221014T203257Z
UID:10930-1667372400-1667372400@icrsp-rouen.com
SUMMARY:Messe basse de Requiem
DESCRIPTION:
URL:https://icrsp-rouen.com/event/messe-basse-de-requiem/
CATEGORIES:Messe
END:VEVENT
BEGIN:VEVENT
DTSTART;TZID=Europe/Paris:20221102T121500
DTEND;TZID=Europe/Paris:20221102T121500
DTSTAMP:20260422T102702
CREATED:20221014T203341Z
LAST-MODIFIED:20221014T203817Z
UID:10932-1667391300-1667391300@icrsp-rouen.com
SUMMARY:Messe basse de Requiem
DESCRIPTION:
URL:https://icrsp-rouen.com/event/messe-basse-de-requiem-2/
CATEGORIES:Messe
END:VEVENT
BEGIN:VEVENT
DTSTART;TZID=Europe/Paris:20221102T183000
DTEND;TZID=Europe/Paris:20221102T183000
DTSTAMP:20260422T102702
CREATED:20221014T203423Z
LAST-MODIFIED:20221014T203423Z
UID:10934-1667413800-1667413800@icrsp-rouen.com
SUMMARY:Messe chantée de Requiem
DESCRIPTION:suivie de l’absoute \n
URL:https://icrsp-rouen.com/event/messe-chantee-de-requiem/
CATEGORIES:Messe
END:VEVENT
END:VCALENDAR