BEGIN:VCALENDAR
VERSION:2.0
PRODID:-//Institut du Christ Roi Souverain Prêtre - Église Saint-Patrice - Rouen - ECPv4.9.12//NONSGML v1.0//EN
CALSCALE:GREGORIAN
METHOD:PUBLISH
X-WR-CALNAME:Institut du Christ Roi Souverain Prêtre - Église Saint-Patrice - Rouen
X-ORIGINAL-URL:https://icrsp-rouen.com
X-WR-CALDESC:Évènements pour Institut du Christ Roi Souverain Prêtre - Église Saint-Patrice - Rouen
BEGIN:VTIMEZONE
TZID:Europe/Paris
BEGIN:DAYLIGHT
TZOFFSETFROM:+0100
TZOFFSETTO:+0200
TZNAME:CEST
DTSTART:20220327T010000
END:DAYLIGHT
BEGIN:STANDARD
TZOFFSETFROM:+0200
TZOFFSETTO:+0100
TZNAME:CET
DTSTART:20221030T010000
END:STANDARD
END:VTIMEZONE
BEGIN:VEVENT
DTSTART;VALUE=DATE:20221019
DTEND;VALUE=DATE:20221020
DTSTAMP:20260423T060310
CREATED:20221014T200059Z
LAST-MODIFIED:20221014T200059Z
UID:10858-1666137600-1666223999@icrsp-rouen.com
SUMMARY:Saint Pierre d'Alcantara\, Confesseur
DESCRIPTION:
URL:https://icrsp-rouen.com/event/saint-pierre-dalcantara-confesseur-3/
CATEGORIES:Messe
END:VEVENT
BEGIN:VEVENT
DTSTART;TZID=Europe/Paris:20221019T070000
DTEND;TZID=Europe/Paris:20221019T070000
DTSTAMP:20260423T060310
CREATED:20221014T200159Z
LAST-MODIFIED:20221014T200159Z
UID:10860-1666162800-1666162800@icrsp-rouen.com
SUMMARY:Messe
DESCRIPTION:suivie du petit-déjeuner au presbytère \n
URL:https://icrsp-rouen.com/event/messe-828/
CATEGORIES:Messe
END:VEVENT
BEGIN:VEVENT
DTSTART;TZID=Europe/Paris:20221019T121500
DTEND;TZID=Europe/Paris:20221019T121500
DTSTAMP:20260423T060310
CREATED:20221014T200236Z
LAST-MODIFIED:20221014T200236Z
UID:10862-1666181700-1666181700@icrsp-rouen.com
SUMMARY:Messe
DESCRIPTION:
URL:https://icrsp-rouen.com/event/messe-829/
CATEGORIES:Messe
END:VEVENT
END:VCALENDAR