BEGIN:VCALENDAR
VERSION:2.0
PRODID:-//Institut du Christ Roi Souverain Prêtre - Église Saint-Patrice - Rouen - ECPv4.9.12//NONSGML v1.0//EN
CALSCALE:GREGORIAN
METHOD:PUBLISH
X-WR-CALNAME:Institut du Christ Roi Souverain Prêtre - Église Saint-Patrice - Rouen
X-ORIGINAL-URL:https://icrsp-rouen.com
X-WR-CALDESC:Évènements pour Institut du Christ Roi Souverain Prêtre - Église Saint-Patrice - Rouen
BEGIN:VTIMEZONE
TZID:Europe/Paris
BEGIN:DAYLIGHT
TZOFFSETFROM:+0100
TZOFFSETTO:+0200
TZNAME:CEST
DTSTART:20220327T010000
END:DAYLIGHT
BEGIN:STANDARD
TZOFFSETFROM:+0200
TZOFFSETTO:+0100
TZNAME:CET
DTSTART:20221030T010000
END:STANDARD
END:VTIMEZONE
BEGIN:VEVENT
DTSTART;VALUE=DATE:20221018
DTEND;VALUE=DATE:20221019
DTSTAMP:20260423T072320
CREATED:20221014T195428Z
LAST-MODIFIED:20221014T195428Z
UID:10842-1666051200-1666137599@icrsp-rouen.com
SUMMARY:Saint Luc\, Évangéliste et Martyr
DESCRIPTION:
URL:https://icrsp-rouen.com/event/saint-luc-evangeliste-et-martyr-2/
CATEGORIES:Messe
END:VEVENT
BEGIN:VEVENT
DTSTART;TZID=Europe/Paris:20221018T090000
DTEND;TZID=Europe/Paris:20221018T090000
DTSTAMP:20260423T072320
CREATED:20221014T195559Z
LAST-MODIFIED:20221014T195559Z
UID:10846-1666083600-1666083600@icrsp-rouen.com
SUMMARY:Messe
DESCRIPTION:
URL:https://icrsp-rouen.com/event/messe-826/
CATEGORIES:Messe
END:VEVENT
BEGIN:VEVENT
DTSTART;TZID=Europe/Paris:20221018T121500
DTEND;TZID=Europe/Paris:20221018T121500
DTSTAMP:20260423T072320
CREATED:20221014T195739Z
LAST-MODIFIED:20221014T195739Z
UID:10850-1666095300-1666095300@icrsp-rouen.com
SUMMARY:Messe
DESCRIPTION:
URL:https://icrsp-rouen.com/event/messe-827/
CATEGORIES:Messe
END:VEVENT
END:VCALENDAR