BEGIN:VCALENDAR
VERSION:2.0
PRODID:-//Institut du Christ Roi Souverain Prêtre - Église Saint-Patrice - Rouen - ECPv4.9.12//NONSGML v1.0//EN
CALSCALE:GREGORIAN
METHOD:PUBLISH
X-WR-CALNAME:Institut du Christ Roi Souverain Prêtre - Église Saint-Patrice - Rouen
X-ORIGINAL-URL:https://icrsp-rouen.com
X-WR-CALDESC:Évènements pour Institut du Christ Roi Souverain Prêtre - Église Saint-Patrice - Rouen
BEGIN:VTIMEZONE
TZID:Europe/Paris
BEGIN:DAYLIGHT
TZOFFSETFROM:+0100
TZOFFSETTO:+0200
TZNAME:CEST
DTSTART:20220327T010000
END:DAYLIGHT
BEGIN:STANDARD
TZOFFSETFROM:+0200
TZOFFSETTO:+0100
TZNAME:CET
DTSTART:20221030T010000
END:STANDARD
END:VTIMEZONE
BEGIN:VEVENT
DTSTART;VALUE=DATE:20221013
DTEND;VALUE=DATE:20221014
DTSTAMP:20260423T145158
CREATED:20221007T152604Z
LAST-MODIFIED:20221007T152604Z
UID:10773-1665619200-1665705599@icrsp-rouen.com
SUMMARY:Saint Édouard\, Roi et Confesseur
DESCRIPTION:
URL:https://icrsp-rouen.com/event/saint-edouard-roi-et-confesseur-3/
CATEGORIES:Messe
END:VEVENT
BEGIN:VEVENT
DTSTART;TZID=Europe/Paris:20221013T183000
DTEND;TZID=Europe/Paris:20221013T183000
DTSTAMP:20260423T145158
CREATED:20221007T152956Z
LAST-MODIFIED:20221007T152956Z
UID:10777-1665685800-1665685800@icrsp-rouen.com
SUMMARY:Messe
DESCRIPTION:
URL:https://icrsp-rouen.com/event/messe-822/
CATEGORIES:Messe
END:VEVENT
END:VCALENDAR