BEGIN:VCALENDAR
VERSION:2.0
PRODID:-//Institut du Christ Roi Souverain Prêtre - Église Saint-Patrice - Rouen - ECPv4.9.12//NONSGML v1.0//EN
CALSCALE:GREGORIAN
METHOD:PUBLISH
X-WR-CALNAME:Institut du Christ Roi Souverain Prêtre - Église Saint-Patrice - Rouen
X-ORIGINAL-URL:https://icrsp-rouen.com
X-WR-CALDESC:Évènements pour Institut du Christ Roi Souverain Prêtre - Église Saint-Patrice - Rouen
BEGIN:VTIMEZONE
TZID:Europe/Paris
BEGIN:DAYLIGHT
TZOFFSETFROM:+0100
TZOFFSETTO:+0200
TZNAME:CEST
DTSTART:20220327T010000
END:DAYLIGHT
BEGIN:STANDARD
TZOFFSETFROM:+0200
TZOFFSETTO:+0100
TZNAME:CET
DTSTART:20221030T010000
END:STANDARD
END:VTIMEZONE
BEGIN:VEVENT
DTSTART;VALUE=DATE:20221012
DTEND;VALUE=DATE:20221013
DTSTAMP:20260423T160059
CREATED:20221007T151926Z
LAST-MODIFIED:20221007T151926Z
UID:10761-1665532800-1665619199@icrsp-rouen.com
SUMMARY:Férie
DESCRIPTION:
URL:https://icrsp-rouen.com/event/ferie-168/
CATEGORIES:Messe
END:VEVENT
BEGIN:VEVENT
DTSTART;TZID=Europe/Paris:20221012T070000
DTEND;TZID=Europe/Paris:20221012T070000
DTSTAMP:20260423T160059
CREATED:20221007T152019Z
LAST-MODIFIED:20221007T152019Z
UID:10763-1665558000-1665558000@icrsp-rouen.com
SUMMARY:Messe
DESCRIPTION:suivie du petit-déjeuner au presbytère \n
URL:https://icrsp-rouen.com/event/messe-820/
CATEGORIES:Messe
END:VEVENT
BEGIN:VEVENT
DTSTART;TZID=Europe/Paris:20221012T183000
DTEND;TZID=Europe/Paris:20221012T183000
DTSTAMP:20260423T160059
CREATED:20221007T152157Z
LAST-MODIFIED:20221007T152157Z
UID:10767-1665599400-1665599400@icrsp-rouen.com
SUMMARY:Messe
DESCRIPTION:
URL:https://icrsp-rouen.com/event/messe-821/
CATEGORIES:Messe
END:VEVENT
END:VCALENDAR