BEGIN:VCALENDAR
VERSION:2.0
PRODID:-//Institut du Christ Roi Souverain Prêtre - Église Saint-Patrice - Rouen - ECPv4.9.12//NONSGML v1.0//EN
CALSCALE:GREGORIAN
METHOD:PUBLISH
X-WR-CALNAME:Institut du Christ Roi Souverain Prêtre - Église Saint-Patrice - Rouen
X-ORIGINAL-URL:https://icrsp-rouen.com
X-WR-CALDESC:Évènements pour Institut du Christ Roi Souverain Prêtre - Église Saint-Patrice - Rouen
BEGIN:VTIMEZONE
TZID:Europe/Paris
BEGIN:DAYLIGHT
TZOFFSETFROM:+0100
TZOFFSETTO:+0200
TZNAME:CEST
DTSTART:20220327T010000
END:DAYLIGHT
BEGIN:STANDARD
TZOFFSETFROM:+0200
TZOFFSETTO:+0100
TZNAME:CET
DTSTART:20221030T010000
END:STANDARD
END:VTIMEZONE
BEGIN:VEVENT
DTSTART;VALUE=DATE:20221011
DTEND;VALUE=DATE:20221012
DTSTAMP:20260423T172647
CREATED:20221007T151452Z
LAST-MODIFIED:20221007T151452Z
UID:10748-1665446400-1665532799@icrsp-rouen.com
SUMMARY:Maternité de la Très Sainte Vierge Marie
DESCRIPTION:
URL:https://icrsp-rouen.com/event/maternite-de-la-tres-sainte-vierge-marie/
CATEGORIES:Messe
END:VEVENT
BEGIN:VEVENT
DTSTART;TZID=Europe/Paris:20221011T121500
DTEND;TZID=Europe/Paris:20221011T121500
DTSTAMP:20260423T172647
CREATED:20221007T151659Z
LAST-MODIFIED:20221007T151659Z
UID:10753-1665490500-1665490500@icrsp-rouen.com
SUMMARY:Messe
DESCRIPTION:
URL:https://icrsp-rouen.com/event/messe-819/
CATEGORIES:Messe
END:VEVENT
END:VCALENDAR