BEGIN:VCALENDAR
VERSION:2.0
PRODID:-//Institut du Christ Roi Souverain Prêtre - Église Saint-Patrice - Rouen - ECPv4.9.12//NONSGML v1.0//EN
CALSCALE:GREGORIAN
METHOD:PUBLISH
X-WR-CALNAME:Institut du Christ Roi Souverain Prêtre - Église Saint-Patrice - Rouen
X-ORIGINAL-URL:https://icrsp-rouen.com
X-WR-CALDESC:Évènements pour Institut du Christ Roi Souverain Prêtre - Église Saint-Patrice - Rouen
BEGIN:VTIMEZONE
TZID:Europe/Paris
BEGIN:DAYLIGHT
TZOFFSETFROM:+0100
TZOFFSETTO:+0200
TZNAME:CEST
DTSTART:20220327T010000
END:DAYLIGHT
BEGIN:STANDARD
TZOFFSETFROM:+0200
TZOFFSETTO:+0100
TZNAME:CET
DTSTART:20221030T010000
END:STANDARD
END:VTIMEZONE
BEGIN:VEVENT
DTSTART;VALUE=DATE:20221006
DTEND;VALUE=DATE:20221007
DTSTAMP:20260424T002821
CREATED:20221001T100845Z
LAST-MODIFIED:20221001T100845Z
UID:10688-1665014400-1665100799@icrsp-rouen.com
SUMMARY:Saint Bruno\, Confesseur ( 1er du mois)
DESCRIPTION:
URL:https://icrsp-rouen.com/event/saint-bruno-confesseur-1er-du-mois/
CATEGORIES:Messe
END:VEVENT
BEGIN:VEVENT
DTSTART;TZID=Europe/Paris:20221006T183000
DTEND;TZID=Europe/Paris:20221006T183000
DTSTAMP:20260424T002821
CREATED:20221001T101017Z
LAST-MODIFIED:20221001T101017Z
UID:10692-1665081000-1665081000@icrsp-rouen.com
SUMMARY:Messe votive de NSJC Souverain Prêtre
DESCRIPTION:
URL:https://icrsp-rouen.com/event/messe-votive-de-nsjc-souverain-pretre-3/
CATEGORIES:Messe
END:VEVENT
END:VCALENDAR