BEGIN:VCALENDAR
VERSION:2.0
PRODID:-//Institut du Christ Roi Souverain Prêtre - Église Saint-Patrice - Rouen - ECPv4.9.12//NONSGML v1.0//EN
CALSCALE:GREGORIAN
METHOD:PUBLISH
X-WR-CALNAME:Institut du Christ Roi Souverain Prêtre - Église Saint-Patrice - Rouen
X-ORIGINAL-URL:https://icrsp-rouen.com
X-WR-CALDESC:Évènements pour Institut du Christ Roi Souverain Prêtre - Église Saint-Patrice - Rouen
BEGIN:VTIMEZONE
TZID:Europe/Paris
BEGIN:DAYLIGHT
TZOFFSETFROM:+0100
TZOFFSETTO:+0200
TZNAME:CEST
DTSTART:20220327T010000
END:DAYLIGHT
BEGIN:STANDARD
TZOFFSETFROM:+0200
TZOFFSETTO:+0100
TZNAME:CET
DTSTART:20221030T010000
END:STANDARD
END:VTIMEZONE
BEGIN:VEVENT
DTSTART;VALUE=DATE:20221003
DTEND;VALUE=DATE:20221004
DTSTAMP:20260424T190016
CREATED:20221001T095733Z
LAST-MODIFIED:20221001T095733Z
UID:10662-1664755200-1664841599@icrsp-rouen.com
SUMMARY:Fête de Sainte Thérèse de l'enfant-Jésus (Patronne secondaire de l'ICRSP)
DESCRIPTION:
URL:https://icrsp-rouen.com/event/fete-de-sainte-therese-de-lenfant-jesus-patronne-secondaire-de-licrsp/
CATEGORIES:Messe
END:VEVENT
BEGIN:VEVENT
DTSTART;TZID=Europe/Paris:20221003T183000
DTEND;TZID=Europe/Paris:20221003T183000
DTSTAMP:20260424T190016
CREATED:20221001T095828Z
LAST-MODIFIED:20221001T095828Z
UID:10664-1664821800-1664821800@icrsp-rouen.com
SUMMARY:Messe
DESCRIPTION:
URL:https://icrsp-rouen.com/event/messe-814/
CATEGORIES:Messe
END:VEVENT
END:VCALENDAR