BEGIN:VCALENDAR
VERSION:2.0
PRODID:-//Institut du Christ Roi Souverain Prêtre - Église Saint-Patrice - Rouen - ECPv4.9.12//NONSGML v1.0//EN
CALSCALE:GREGORIAN
METHOD:PUBLISH
X-WR-CALNAME:Institut du Christ Roi Souverain Prêtre - Église Saint-Patrice - Rouen
X-ORIGINAL-URL:https://icrsp-rouen.com
X-WR-CALDESC:Évènements pour Institut du Christ Roi Souverain Prêtre - Église Saint-Patrice - Rouen
BEGIN:VTIMEZONE
TZID:Europe/Paris
BEGIN:DAYLIGHT
TZOFFSETFROM:+0100
TZOFFSETTO:+0200
TZNAME:CEST
DTSTART:20220327T010000
END:DAYLIGHT
BEGIN:STANDARD
TZOFFSETFROM:+0200
TZOFFSETTO:+0100
TZNAME:CET
DTSTART:20221030T010000
END:STANDARD
END:VTIMEZONE
BEGIN:VEVENT
DTSTART;VALUE=DATE:20220927
DTEND;VALUE=DATE:20220928
DTSTAMP:20260425T021640
CREATED:20220924T092933Z
LAST-MODIFIED:20220924T092933Z
UID:10586-1664236800-1664323199@icrsp-rouen.com
SUMMARY:Saint Côme et Damien\, Martyrs
DESCRIPTION:
URL:https://icrsp-rouen.com/event/saint-come-et-damien-martyrs-2/
CATEGORIES:Messe
END:VEVENT
BEGIN:VEVENT
DTSTART;TZID=Europe/Paris:20220927T090000
DTEND;TZID=Europe/Paris:20220927T090000
DTSTAMP:20260425T021640
CREATED:20220924T093002Z
LAST-MODIFIED:20220924T093002Z
UID:10588-1664269200-1664269200@icrsp-rouen.com
SUMMARY:Messe
DESCRIPTION:
URL:https://icrsp-rouen.com/event/messe-810/
CATEGORIES:Messe
END:VEVENT
END:VCALENDAR