BEGIN:VCALENDAR
VERSION:2.0
PRODID:-//Institut du Christ Roi Souverain Prêtre - Église Saint-Patrice - Rouen - ECPv4.9.12//NONSGML v1.0//EN
CALSCALE:GREGORIAN
METHOD:PUBLISH
X-WR-CALNAME:Institut du Christ Roi Souverain Prêtre - Église Saint-Patrice - Rouen
X-ORIGINAL-URL:https://icrsp-rouen.com
X-WR-CALDESC:Évènements pour Institut du Christ Roi Souverain Prêtre - Église Saint-Patrice - Rouen
BEGIN:VTIMEZONE
TZID:Europe/Paris
BEGIN:DAYLIGHT
TZOFFSETFROM:+0100
TZOFFSETTO:+0200
TZNAME:CEST
DTSTART:20220327T010000
END:DAYLIGHT
BEGIN:STANDARD
TZOFFSETFROM:+0200
TZOFFSETTO:+0100
TZNAME:CET
DTSTART:20221030T010000
END:STANDARD
END:VTIMEZONE
BEGIN:VEVENT
DTSTART;VALUE=DATE:20220918
DTEND;VALUE=DATE:20220919
DTSTAMP:20260425T141131
CREATED:20220910T114458Z
LAST-MODIFIED:20220910T114458Z
UID:10463-1663459200-1663545599@icrsp-rouen.com
SUMMARY:VXème dimanche après la Pentecôte
DESCRIPTION:
URL:https://icrsp-rouen.com/event/vxeme-dimanche-apres-la-pentecote/
CATEGORIES:Messe
END:VEVENT
BEGIN:VEVENT
DTSTART;TZID=Europe/Paris:20220918T103000
DTEND;TZID=Europe/Paris:20220918T103000
DTSTAMP:20260425T141131
CREATED:20220910T114658Z
LAST-MODIFIED:20220910T114658Z
UID:10469-1663497000-1663497000@icrsp-rouen.com
SUMMARY:Messe chantée
DESCRIPTION:
URL:https://icrsp-rouen.com/event/messe-chantee-128/
CATEGORIES:Messe
END:VEVENT
END:VCALENDAR