BEGIN:VCALENDAR
VERSION:2.0
PRODID:-//Institut du Christ Roi Souverain Prêtre - Église Saint-Patrice - Rouen - ECPv4.9.12//NONSGML v1.0//EN
CALSCALE:GREGORIAN
METHOD:PUBLISH
X-WR-CALNAME:Institut du Christ Roi Souverain Prêtre - Église Saint-Patrice - Rouen
X-ORIGINAL-URL:https://icrsp-rouen.com
X-WR-CALDESC:Évènements pour Institut du Christ Roi Souverain Prêtre - Église Saint-Patrice - Rouen
BEGIN:VTIMEZONE
TZID:Europe/Paris
BEGIN:DAYLIGHT
TZOFFSETFROM:+0100
TZOFFSETTO:+0200
TZNAME:CEST
DTSTART:20210328T010000
END:DAYLIGHT
BEGIN:STANDARD
TZOFFSETFROM:+0200
TZOFFSETTO:+0100
TZNAME:CET
DTSTART:20211031T010000
END:STANDARD
END:VTIMEZONE
BEGIN:VEVENT
DTSTART;VALUE=DATE:20211122
DTEND;VALUE=DATE:20211123
DTSTAMP:20260419T204150
CREATED:20211120T192254Z
LAST-MODIFIED:20211120T202018Z
UID:7527-1637539200-1637625599@icrsp-rouen.com
SUMMARY:Sainte Cécile\, vierge et martyre
DESCRIPTION:
URL:https://icrsp-rouen.com/event/sainte-cecile-vierge-et-martyre/
CATEGORIES:Messe
END:VEVENT
BEGIN:VEVENT
DTSTART;TZID=Europe/Paris:20211122T070000
DTEND;TZID=Europe/Paris:20211122T070000
DTSTAMP:20260419T204150
CREATED:20211120T192353Z
LAST-MODIFIED:20211120T192353Z
UID:7529-1637564400-1637564400@icrsp-rouen.com
SUMMARY:Messe
DESCRIPTION:suivie du petit-déjeuner au presbytère \n
URL:https://icrsp-rouen.com/event/messe-548/
CATEGORIES:Messe
END:VEVENT
BEGIN:VEVENT
DTSTART;TZID=Europe/Paris:20211122T183000
DTEND;TZID=Europe/Paris:20211122T183000
DTSTAMP:20260419T204150
CREATED:20211120T192627Z
LAST-MODIFIED:20211120T192627Z
UID:7535-1637605800-1637605800@icrsp-rouen.com
SUMMARY:Messe
DESCRIPTION:
URL:https://icrsp-rouen.com/event/messe-549/
CATEGORIES:Messe
END:VEVENT
END:VCALENDAR